USGS EarthWord<\/SPAN><\/A><\/P><\/P><\/DIV><\/DIV><\/DIV>",
"extent": {
"xmin": 673903.7951999996,
"ymin": 4248816.753900001,
"xmax": 697045.7951999996,
"ymax": 4264192.753900001,
"spatialReference": {
"wkid": 102386,
"latestWkid": 6346,
"vcsWkid": 5703,
"latestVcsWkid": 5703
}
},
"initialExtent": {
"xmin": 673903.7951999996,
"ymin": 4248816.753900001,
"xmax": 697045.7951999996,
"ymax": 4264192.753900001,
"spatialReference": {
"wkid": 102386,
"latestWkid": 6346,
"vcsWkid": 5703,
"latestVcsWkid": 5703
}
},
"fullExtent": {
"xmin": 673903.7951999996,
"ymin": 4248816.753900001,
"xmax": 697045.7951999996,
"ymax": 4264192.753900001,
"spatialReference": {
"wkid": 102386,
"latestWkid": 6346,
"vcsWkid": 5703,
"latestVcsWkid": 5703
}
},
"sortableFields": "MinPS,MaxPS,LowPS,HighPS,CenterX,CenterY,ZOrder,Shape_Length,Shape_Area,LE90,CE90,DEM_Type,BEST,Date_Start,Date_End",
"heightModelInfo": {
"heightModel": "gravity_related_height",
"vertCRS": "NAVD_1988",
"heightUnit": "meter"
},
"bandCount": 1,
"pixelType": "F32",
"minValues": [
342.5525817871094
],
"maxValues": [
891.4422607421875
],
"meanValues": [
428.03879481148675
],
"stdvValues": [
55.696143552050614
],
"hasMultidimensions": false,
"pixelSizeX": 0.5,
"pixelSizeY": 0.5,
"meanPixelSize": 0.5,
"datasetFormat": "AMD",
"uncompressedSize": 5693302272,
"blockWidth": 2048,
"blockHeight": 256,
"compressionType": "None",
"bandNames": [
"Band_1"
],
"allowCopy": true,
"allowAnalysis": true,
"itemAccess": false,
"inspectionCapabilities": "",
"minPixelSize": 0,
"maxPixelSize": 0,
"copyrightText": "U.S. Geological Survey, City of Harrisonburg",
"serviceDataType": "esriImageServiceDataTypeElevation",
"serviceSourceType": "esriImageServiceSourceTypeMosaicDataset",
"objectIdField": "OBJECTID",
"fields": [
{
"name": "OBJECTID",
"type": "esriFieldTypeOID",
"alias": "OBJECTID",
"domain": null
},
{
"name": "Shape",
"type": "esriFieldTypeGeometry",
"alias": "Shape",
"domain": null
},
{
"name": "Name",
"type": "esriFieldTypeString",
"alias": "Name",
"domain": null,
"length": 200
},
{
"name": "MinPS",
"type": "esriFieldTypeDouble",
"alias": "MinPS",
"domain": null
},
{
"name": "MaxPS",
"type": "esriFieldTypeDouble",
"alias": "MaxPS",
"domain": null
},
{
"name": "LowPS",
"type": "esriFieldTypeDouble",
"alias": "LowPS",
"domain": null
},
{
"name": "HighPS",
"type": "esriFieldTypeDouble",
"alias": "HighPS",
"domain": null
},
{
"name": "Category",
"type": "esriFieldTypeInteger",
"alias": "Category",
"domain": {
"type": "codedValue",
"name": "MosaicCatalogItemCategoryDomain",
"description": "Catalog item categories.",
"codedValues": [
{
"name": "Unknown",
"code": 0
},
{
"name": "Primary",
"code": 1
},
{
"name": "Overview",
"code": 2
},
{
"name": "Unprocessed Overview",
"code": 3
},
{
"name": "Partial Overview",
"code": 4
},
{
"name": "Inactive",
"code": 5
},
{
"name": "Uploaded",
"code": 253
},
{
"name": "Incomplete",
"code": 254
},
{
"name": "Custom",
"code": 255
}
],
"mergePolicy": "esriMPTDefaultValue",
"splitPolicy": "esriSPTDefaultValue"
}
},
{
"name": "Tag",
"type": "esriFieldTypeString",
"alias": "Tag",
"domain": null,
"length": 100
},
{
"name": "GroupName",
"type": "esriFieldTypeString",
"alias": "GroupName",
"domain": null,
"length": 100
},
{
"name": "ProductName",
"type": "esriFieldTypeString",
"alias": "ProductName",
"domain": null,
"length": 100
},
{
"name": "CenterX",
"type": "esriFieldTypeDouble",
"alias": "CenterX",
"domain": null
},
{
"name": "CenterY",
"type": "esriFieldTypeDouble",
"alias": "CenterY",
"domain": null
},
{
"name": "ZOrder",
"type": "esriFieldTypeInteger",
"alias": "ZOrder",
"domain": null
},
{
"name": "Shape_Length",
"type": "esriFieldTypeDouble",
"alias": "Shape_Length",
"domain": null
},
{
"name": "Shape_Area",
"type": "esriFieldTypeDouble",
"alias": "Shape_Area",
"domain": null
},
{
"name": "Dataset_ID",
"type": "esriFieldTypeString",
"alias": "Dataset_ID",
"domain": null,
"length": 32
},
{
"name": "LE90",
"type": "esriFieldTypeSingle",
"alias": "LE90",
"domain": null
},
{
"name": "CE90",
"type": "esriFieldTypeSingle",
"alias": "CE90",
"domain": null
},
{
"name": "DEM_Type",
"type": "esriFieldTypeSmallInteger",
"alias": "DEM_Type",
"domain": null
},
{
"name": "VerticalDatum",
"type": "esriFieldTypeString",
"alias": "VerticalDatum",
"domain": null,
"length": 16
},
{
"name": "LinkToMetadata",
"type": "esriFieldTypeString",
"alias": "LinkToMetadata",
"domain": null,
"length": 255
},
{
"name": "BEST",
"type": "esriFieldTypeSingle",
"alias": "BEST",
"domain": null
},
{
"name": "Date_Start",
"type": "esriFieldTypeDate",
"alias": "Date_Start",
"domain": null,
"length": 8
},
{
"name": "Date_End",
"type": "esriFieldTypeDate",
"alias": "Date_End",
"domain": null,
"length": 8
}
],
"capabilities": "Image,Metadata,Mensuration,Catalog",
"defaultMosaicMethod": "ByAttribute",
"allowedMosaicMethods": "ByAttribute,None,LockRaster",
"sortField": "BEST",
"sortValue": "0",
"sortAscending": true,
"mosaicOperator": "First",
"maxDownloadSizeLimit": 2048,
"defaultCompressionQuality": 80,
"defaultResamplingMethod": "Bilinear",
"maxImageHeight": 4100,
"maxImageWidth": 15000,
"maxRecordCount": 200,
"maxDownloadImageCount": 0,
"maxMosaicImageCount": 20,
"allowRasterFunction": true,
"rasterFunctionInfos": [
{
"name": "Multidirectional Hillshade DEM",
"description": "Hillshade applied to a DEM (Bare Earth) created for visualizations.",
"help": ""
},
{
"name": "Multidirectional Hillshade DSM",
"description": "Hillshade applied to a DSM (Above Ground Surface) created for visualizations.",
"help": ""
},
{
"name": "Shaded Relief DEM",
"description": "Colored hillshade applied to a DEM (Bare Earth) created for visualizations.",
"help": ""
},
{
"name": "Shaded Relief DSM",
"description": "Colored hillshade applied to a DSM (Above Ground Surface) created for visualizations.\n",
"help": ""
},
{
"name": "Traditional Hillshade DEM",
"description": "Hillshade applied to a DEM (Bare Earth) created for visualizations.",
"help": ""
},
{
"name": "Traditional Hillshade DSM",
"description": "Hillshade applied to a DSM (Above Ground Surface) created for visualizations.",
"help": ""
},
{
"name": "None",
"description": "",
"help": ""
}
],
"rasterTypeInfos": [
{
"name": "Raster Dataset",
"description": "Supports all ArcGIS Raster Datasets",
"help": ""
}
],
"mensurationCapabilities": "Basic",
"hasHistograms": true,
"hasColormap": false,
"hasRasterAttributeTable": false,
"minScale": 0,
"maxScale": 0,
"exportTilesAllowed": false,
"supportsStatistics": true,
"supportsAdvancedQueries": true,
"editFieldsInfo": null,
"ownershipBasedAccessControlForRasters": null,
"allowComputeTiePoints": false,
"useStandardizedQueries": true,
"advancedQueryCapabilities": {
"useStandardizedQueries": true,
"supportsStatistics": true,
"supportsOrderBy": true,
"supportsDistinct": true,
"supportsPagination": true
},
"spatialReference": {
"wkid": 102386,
"latestWkid": 6346,
"vcsWkid": 5703,
"latestVcsWkid": 5703
}
}