{ "currentVersion": 11.3, "serviceDescription": "
The orthoimagery in this image service was taken on 9/21/1937 over the City of Harrisonburg, VA. Data was supplied from James Madison University in 2005. Dr. Glen Gustafson's ISAT Applied GIS Lab created this mosaic for the City of Harrisonburg from prints supplied by the U.S. National Archives and Records Administration (NARA). The dataset's coordinate system is WGS 1984 Web Mercator (Auxiliary Sphere). A cache was built using the the ArcGIS Online/Bing Maps/Google Maps tiling scheme containing 11 levels ranging from 1:288,895 to 1:282. The source image tile format is ERDAS IMAGINE (.img) with a spatial resolution of 0.5 meters.<\/span><\/p> Metadata from JMU Professor<\/span><\/p> The attached files were scanned July 14, 2004 by Glen C. Gustafson using an Epson \u201cExpression 1640 XL\u201d large-format scanner. Scanner settings included: 8-bit black and white, 1200 dpi, auto focus, and auto exposure. The original airphotos were 9x9 inch paper prints, created by the National Archives and Records Administration, using auto dodge techniques.<\/span><\/p> Metadata from JMU Lab Students<\/span><\/p> By: Carolyn Danforth and Michael Benyo<\/span><\/p> Title: Airphoto Map<\/span><\/p> The task of this project was to create an output mosaic in Erdas Imagine of Harrisonburg Virginia with the six original aerial photographs given to us. Exposures 61, 62 and 63 were used from flight FG, roll number 152, and exposures 95, 96 and 97 were used from flight FG, roll number 165, all taken on September 21, 1937.<\/span><\/p> The original six aerial photos were brought into Erdas Imagine. The quality of each individual aerial photograph was determined in the ImageInfo screen. All of the photos had 0.5 x 0.5 meter spatial resolution and normal histogram distributions. Exposure 95 on flight FG, roll number 165 needed to be horizontally shifted approximately 20 meters to the West. An AOI was made for each of the six original airphotos to cut out the flight number, roll numbers, exposure numbers, and fiducials. The images were subset with their respective AOI areas. The mosaic tool was used in the data preparation module in Erdas. Histogram matching and cutlines were used in the mosaic process. Neither feathering nor smoothing was used. The output mosaiced image was very good, without double images or apparent cutlines. The projection was UTM Zone 17, Clarke 1866, and NAD 27. The mean brightness value was 111, there was one band, and the data was unsigned 8-bit.<\/span><\/p> A map composition was created in Erdas Imagine under the Composer module. The map composition had a title, grid, scale, north arrow, prepared by statement, source information, as well as the mosaiced image of Harrisonburg, Virginia.<\/span><\/p><\/div><\/div><\/div>",
"name": "Imagery/Imagery_1937",
"description": " The orthoimagery in this image service was taken on 9/21/1937 over the City of Harrisonburg, VA. Data was supplied from James Madison University in 2005. Dr. Glen Gustafson's ISAT Applied GIS Lab created this mosaic for the City of Harrisonburg from prints supplied by the U.S. National Archives and Records Administration (NARA). The dataset's coordinate system is WGS 1984 Web Mercator (Auxiliary Sphere). A cache was built using the the ArcGIS Online/Bing Maps/Google Maps tiling scheme containing 11 levels ranging from 1:288,895 to 1:282. The source image tile format is ERDAS IMAGINE (.img) with a spatial resolution of 0.5 meters.<\/span><\/p> Metadata from JMU Professor<\/span><\/p> The attached files were scanned July 14, 2004 by Glen C. Gustafson using an Epson \u201cExpression 1640 XL\u201d large-format scanner. Scanner settings included: 8-bit black and white, 1200 dpi, auto focus, and auto exposure. The original airphotos were 9x9 inch paper prints, created by the National Archives and Records Administration, using auto dodge techniques.<\/span><\/p> Metadata from JMU Lab Students<\/span><\/p> By: Carolyn Danforth and Michael Benyo<\/span><\/p> Title: Airphoto Map<\/span><\/p> The task of this project was to create an output mosaic in Erdas Imagine of Harrisonburg Virginia with the six original aerial photographs given to us. Exposures 61, 62 and 63 were used from flight FG, roll number 152, and exposures 95, 96 and 97 were used from flight FG, roll number 165, all taken on September 21, 1937.<\/span><\/p> The original six aerial photos were brought into Erdas Imagine. The quality of each individual aerial photograph was determined in the ImageInfo screen. All of the photos had 0.5 x 0.5 meter spatial resolution and normal histogram distributions. Exposure 95 on flight FG, roll number 165 needed to be horizontally shifted approximately 20 meters to the West. An AOI was made for each of the six original airphotos to cut out the flight number, roll numbers, exposure numbers, and fiducials. The images were subset with their respective AOI areas. The mosaic tool was used in the data preparation module in Erdas. Histogram matching and cutlines were used in the mosaic process. Neither feathering nor smoothing was used. The output mosaiced image was very good, without double images or apparent cutlines. The projection was UTM Zone 17, Clarke 1866, and NAD 27. The mean brightness value was 111, there was one band, and the data was unsigned 8-bit.<\/span><\/p> A map composition was created in Erdas Imagine under the Composer module. The map composition had a title, grid, scale, north arrow, prepared by statement, source information, as well as the mosaiced image of Harrisonburg, Virginia.<\/span><\/p><\/div><\/div><\/div>",
"extent": {
"xmin": -8782895.0384,
"ymin": 4637080.206900001,
"xmax": -8775425.5384,
"ymax": 4646923.706900001,
"spatialReference": {
"wkid": 102100,
"latestWkid": 3857
}
},
"initialExtent": {
"xmin": -8782895.0384,
"ymin": 4637080.206900001,
"xmax": -8775425.5384,
"ymax": 4646923.706900001,
"spatialReference": {
"wkid": 102100,
"latestWkid": 3857
}
},
"fullExtent": {
"xmin": -8782895.0384,
"ymin": 4637080.206900001,
"xmax": -8775425.5384,
"ymax": 4646923.706900001,
"spatialReference": {
"wkid": 102100,
"latestWkid": 3857
}
},
"sortableFields": "MinPS,MaxPS,LowPS,HighPS,CenterX,CenterY,ZOrder,Shape_Length,Shape_Area",
"bandCount": 1,
"pixelType": "U8",
"minValues": [
0
],
"maxValues": [
255
],
"meanValues": [
123.26010768649385
],
"stdvValues": [
51.52295508927556
],
"hasMultidimensions": false,
"pixelSizeX": 0.5,
"pixelSizeY": 0.5,
"meanPixelSize": 0.5,
"datasetFormat": "AMD",
"uncompressedSize": 294104093,
"blockWidth": 2048,
"blockHeight": 256,
"compressionType": "None",
"bandNames": [
"Band_1"
],
"allowCopy": true,
"allowAnalysis": true,
"itemAccess": false,
"inspectionCapabilities": "",
"minPixelSize": 0,
"maxPixelSize": 76.43702828507317,
"copyrightText": "NARA, JMU, City of Harrisonburg",
"serviceDataType": "esriImageServiceDataTypeGeneric",
"serviceSourceType": "esriImageServiceSourceTypeMosaicDataset",
"objectIdField": "OBJECTID",
"fields": [
{
"name": "OBJECTID",
"type": "esriFieldTypeOID",
"alias": "OBJECTID",
"domain": null
},
{
"name": "Shape",
"type": "esriFieldTypeGeometry",
"alias": "Shape",
"domain": null
},
{
"name": "Name",
"type": "esriFieldTypeString",
"alias": "Name",
"domain": null,
"length": 200
},
{
"name": "MinPS",
"type": "esriFieldTypeDouble",
"alias": "MinPS",
"domain": null
},
{
"name": "MaxPS",
"type": "esriFieldTypeDouble",
"alias": "MaxPS",
"domain": null
},
{
"name": "LowPS",
"type": "esriFieldTypeDouble",
"alias": "LowPS",
"domain": null
},
{
"name": "HighPS",
"type": "esriFieldTypeDouble",
"alias": "HighPS",
"domain": null
},
{
"name": "Category",
"type": "esriFieldTypeInteger",
"alias": "Category",
"domain": {
"type": "codedValue",
"name": "MosaicCatalogItemCategoryDomain",
"description": "Catalog item categories.",
"codedValues": [
{
"name": "Unknown",
"code": 0
},
{
"name": "Primary",
"code": 1
},
{
"name": "Overview",
"code": 2
},
{
"name": "Unprocessed Overview",
"code": 3
},
{
"name": "Partial Overview",
"code": 4
},
{
"name": "Inactive",
"code": 5
},
{
"name": "Uploaded",
"code": 253
},
{
"name": "Incomplete",
"code": 254
},
{
"name": "Custom",
"code": 255
}
],
"mergePolicy": "esriMPTDefaultValue",
"splitPolicy": "esriSPTDefaultValue"
}
},
{
"name": "Tag",
"type": "esriFieldTypeString",
"alias": "Tag",
"domain": null,
"length": 100
},
{
"name": "GroupName",
"type": "esriFieldTypeString",
"alias": "GroupName",
"domain": null,
"length": 100
},
{
"name": "ProductName",
"type": "esriFieldTypeString",
"alias": "ProductName",
"domain": null,
"length": 100
},
{
"name": "CenterX",
"type": "esriFieldTypeDouble",
"alias": "CenterX",
"domain": null
},
{
"name": "CenterY",
"type": "esriFieldTypeDouble",
"alias": "CenterY",
"domain": null
},
{
"name": "ZOrder",
"type": "esriFieldTypeInteger",
"alias": "ZOrder",
"domain": null
},
{
"name": "Shape_Length",
"type": "esriFieldTypeDouble",
"alias": "Shape_Length",
"domain": null
},
{
"name": "Shape_Area",
"type": "esriFieldTypeDouble",
"alias": "Shape_Area",
"domain": null
}
],
"capabilities": "Catalog,Image,Metadata",
"defaultMosaicMethod": "Northwest",
"allowedMosaicMethods": "NorthWest,Center,LockRaster,ByAttribute,Nadir,Viewpoint,Seamline,None",
"sortField": "",
"sortValue": null,
"sortAscending": true,
"mosaicOperator": "First",
"maxDownloadSizeLimit": 2048,
"defaultCompressionQuality": 75,
"defaultResamplingMethod": "Bilinear",
"maxImageHeight": 4100,
"maxImageWidth": 15000,
"maxRecordCount": 1000,
"maxDownloadImageCount": 20,
"maxMosaicImageCount": 50,
"singleFusedMapCache": true,
"tileInfo": {
"rows": 256,
"cols": 256,
"dpi": 96,
"format": "MIXED",
"compressionQuality": 100,
"origin": {
"x": -2.0037508342787E7,
"y": 2.0037508342787E7
},
"spatialReference": {
"wkid": 102100,
"latestWkid": 3857
},
"lods": [
{
"level": 0,
"resolution": 156543.033928,
"scale": 5.91657527591555E8
},
{
"level": 1,
"resolution": 78271.5169639999,
"scale": 2.95828763795777E8
},
{
"level": 2,
"resolution": 39135.7584820001,
"scale": 1.47914381897889E8
},
{
"level": 3,
"resolution": 19567.8792409999,
"scale": 7.3957190948944E7
},
{
"level": 4,
"resolution": 9783.93962049996,
"scale": 3.6978595474472E7
},
{
"level": 5,
"resolution": 4891.96981024998,
"scale": 1.8489297737236E7
},
{
"level": 6,
"resolution": 2445.98490512499,
"scale": 9244648.868618
},
{
"level": 7,
"resolution": 1222.99245256249,
"scale": 4622324.434309
},
{
"level": 8,
"resolution": 611.49622628138,
"scale": 2311162.217155
},
{
"level": 9,
"resolution": 305.748113140558,
"scale": 1155581.108577
},
{
"level": 10,
"resolution": 152.874056570411,
"scale": 577790.554289
},
{
"level": 11,
"resolution": 76.4370282850732,
"scale": 288895.277144
},
{
"level": 12,
"resolution": 38.2185141425366,
"scale": 144447.638572
},
{
"level": 13,
"resolution": 19.1092570712683,
"scale": 72223.819286
},
{
"level": 14,
"resolution": 9.55462853563415,
"scale": 36111.909643
},
{
"level": 15,
"resolution": 4.77731426794937,
"scale": 18055.954822
},
{
"level": 16,
"resolution": 2.38865713397468,
"scale": 9027.977411
},
{
"level": 17,
"resolution": 1.19432856685505,
"scale": 4513.988705
},
{
"level": 18,
"resolution": 0.597164283559817,
"scale": 2256.994353
},
{
"level": 19,
"resolution": 0.298582141647617,
"scale": 1128.497176
},
{
"level": 20,
"resolution": 0.14929107082380833,
"scale": 564.248588
},
{
"level": 21,
"resolution": 0.07464553541190416,
"scale": 282.124294
},
{
"level": 22,
"resolution": 0.03732276770595208,
"scale": 141.062147
},
{
"level": 23,
"resolution": 0.01866138385297604,
"scale": 70.5310735
}
]
},
"storageInfo": {
"storageFormat": "esriMapCacheStorageModeCompactV2",
"packetSize": 128
},
"cacheType": "Map",
"allowRasterFunction": true,
"rasterFunctionInfos": [
{
"name": "None",
"description": "",
"help": ""
}
],
"rasterTypeInfos": [
{
"name": "Raster Dataset",
"description": "Supports all ArcGIS Raster Datasets",
"help": ""
}
],
"mensurationCapabilities": "None",
"hasHistograms": true,
"hasColormap": false,
"hasRasterAttributeTable": false,
"minScale": 288895.277144,
"maxScale": 0,
"exportTilesAllowed": false,
"supportsStatistics": true,
"supportsAdvancedQueries": true,
"editFieldsInfo": null,
"ownershipBasedAccessControlForRasters": null,
"allowComputeTiePoints": false,
"useStandardizedQueries": true,
"advancedQueryCapabilities": {
"useStandardizedQueries": true,
"supportsStatistics": true,
"supportsOrderBy": true,
"supportsDistinct": true,
"supportsPagination": true
},
"spatialReference": {
"wkid": 102100,
"latestWkid": 3857
},
"resampling": true
}