{ "currentVersion": 11.3, "serviceDescription": "
The orthoimagery in this image service was taken on 7/21/1951 over Harrisonburg, VA. Data was supplied from James Madison University. Dr. Glen Gustafson's ISAT Applied GIS Lab created this mosaic for the City of Harrisonburg from scanned prints. The dataset's coordinate system is WGS 1984 Web Mercator (Auxiliary Sphere). A cache was built using the the ArcGIS Online/Bing Maps/Google Maps tiling scheme containing 11 levels ranging from 1:288,895 to 1:282.<\/span><\/p> Metadata from JMU student<\/span><\/p> Matthew Chenault - May 6, 2004<\/span><\/p> Harrisonburg, VA Orthophoto Production and Mosaic - Geog 490, Independent Study<\/span><\/p> The goal of this assignment was to orthocorrect and mosaic four panchromatic air photos taken on July 21, 1951 of the City of Harrisonburg and areas of surrounding Rockingham County. The exposures used in this exercise are identified as DJN-12G-102, DJN-12G-103, DJN-12G-104 and DJN-12G-105.<\/span><\/p> The first step of the project was to scan each raw airphoto at 600dpi and import it into ERDAS Imagine. With this newly created .img file I followed the steps of defining the DEM to be used for elevation, entered the camera focal length of 208.44mm and digitized the fiducial marks on the airphoto. I then entered the corresponding map coordinates with these digitized fiducials and set the projection of the soon to be created orthophoto to match the provided reference map. I orthocorrected each imported air photo by georeferencing it with the mosaicked 1987 Harrisonburg/Bridgewater USGS 2.43m DRG. I specified the mosaicked Harrisonburg/Bridgewater 30m USGS DEM to correct for elevation and resampled each photo with an output cell size of 0.75 meters. I initially used approximately 40 GCP points on each photo and then deleted several of them to reduce the RMSE so that each photo had an RMSE of less than 6 pixels. After creating each orthophoto I ensured that it matched accurately with the reference map projection and that it had the appropriate cell size. After performing the initial quality control on each orthophoto, I began the mosaic process using the Data Prep module in ERDAS. After adding each image to the viewer, I selected \u201cCompute Active Area\u201d and chose to crop 30% off of each orthophoto during the mosaic process. The 30% was the minimum necessary percentage to crop the photo to fully remove any remnants of the photos\u2019 date and exposure number. I selected \u201cBilinear Interpolation\u201d as the resample method and \u201cNo Matching\u201d under the matching options menu. I then selected \u201cFeather\u201d under the Select Overlap Function dialogue and proceeded to the Output Image Options menu. There I selected \u201cUnion of All Inputs\u201d and specified an output cell size of 0.75 meters and an output data type of Unsigned 8-bit. After specifying the output file name I selected \u201cIgnore Zeros\u201d in the mosaic dialogue and then ran the mosaic process. I chose to Subset the initial mosaicked image using the Data Prep module by selecting an AOI of the mosaic that created a rectangle. I specified the new output name, the matching data type and cell size to produce the subset.<\/span><\/p> The visual quality of the output images is very comparable to the input images. There is no noticeable difference in the brightness of the areas covered by the photos and there do not appear to be any major blunders or errors in the data. Most importantly the line between the photos is undetectable. The image information window shows that this data is indeed in the correct projection and contains the correct pixel size as specified in the mosaic process. I measured the horizontal accuracy of each orthophoto and the mosaic by swiping with the reference map and measuring prominent intersections. It is important to note here that many of the roads in the City may have shifted or expanded since 1951 and there naturally may be some discrepancy with the DRG. Therefore I only used prominent intersections that appeared to exist during both time periods. I observed that these intersections varied from the DRG by 0 to 6 meters. I also obtained the City Street Centerline shapefile from Sam Hottinger to measure the accuracy of the photos with some sample data from the City. The prominent intersections and streets in the orthophotos varied from the Centerline file by 0 meters to 6 meters, generally in the southwest direction. This was a very interesting assignment because it compiled many of the techniques learned in remote sensing into one comprehensive project. It is very rewarding to serve the needs of the City and hopefully they will be able to put our work to good use.<\/span><\/p><\/div><\/div><\/div>",
"name": "Imagery/Imagery_1951",
"description": " The orthoimagery in this image service was taken on 7/21/1951 over Harrisonburg, VA. Data was supplied from James Madison University. Dr. Glen Gustafson's ISAT Applied GIS Lab created this mosaic for the City of Harrisonburg from scanned prints. The dataset's coordinate system is WGS 1984 Web Mercator (Auxiliary Sphere). A cache was built using the the ArcGIS Online/Bing Maps/Google Maps tiling scheme containing 11 levels ranging from 1:288,895 to 1:282.<\/span><\/p> Metadata from JMU student<\/span><\/p> Matthew Chenault - May 6, 2004<\/span><\/p> Harrisonburg, VA Orthophoto Production and Mosaic - Geog 490, Independent Study<\/span><\/p> The goal of this assignment was to orthocorrect and mosaic four panchromatic air photos taken on July 21, 1951 of the City of Harrisonburg and areas of surrounding Rockingham County. The exposures used in this exercise are identified as DJN-12G-102, DJN-12G-103, DJN-12G-104 and DJN-12G-105.<\/span><\/p> The first step of the project was to scan each raw airphoto at 600dpi and import it into ERDAS Imagine. With this newly created .img file I followed the steps of defining the DEM to be used for elevation, entered the camera focal length of 208.44mm and digitized the fiducial marks on the airphoto. I then entered the corresponding map coordinates with these digitized fiducials and set the projection of the soon to be created orthophoto to match the provided reference map. I orthocorrected each imported air photo by georeferencing it with the mosaicked 1987 Harrisonburg/Bridgewater USGS 2.43m DRG. I specified the mosaicked Harrisonburg/Bridgewater 30m USGS DEM to correct for elevation and resampled each photo with an output cell size of 0.75 meters. I initially used approximately 40 GCP points on each photo and then deleted several of them to reduce the RMSE so that each photo had an RMSE of less than 6 pixels. After creating each orthophoto I ensured that it matched accurately with the reference map projection and that it had the appropriate cell size. After performing the initial quality control on each orthophoto, I began the mosaic process using the Data Prep module in ERDAS. After adding each image to the viewer, I selected \u201cCompute Active Area\u201d and chose to crop 30% off of each orthophoto during the mosaic process. The 30% was the minimum necessary percentage to crop the photo to fully remove any remnants of the photos\u2019 date and exposure number. I selected \u201cBilinear Interpolation\u201d as the resample method and \u201cNo Matching\u201d under the matching options menu. I then selected \u201cFeather\u201d under the Select Overlap Function dialogue and proceeded to the Output Image Options menu. There I selected \u201cUnion of All Inputs\u201d and specified an output cell size of 0.75 meters and an output data type of Unsigned 8-bit. After specifying the output file name I selected \u201cIgnore Zeros\u201d in the mosaic dialogue and then ran the mosaic process. I chose to Subset the initial mosaicked image using the Data Prep module by selecting an AOI of the mosaic that created a rectangle. I specified the new output name, the matching data type and cell size to produce the subset.<\/span><\/p> The visual quality of the output images is very comparable to the input images. There is no noticeable difference in the brightness of the areas covered by the photos and there do not appear to be any major blunders or errors in the data. Most importantly the line between the photos is undetectable. The image information window shows that this data is indeed in the correct projection and contains the correct pixel size as specified in the mosaic process. I measured the horizontal accuracy of each orthophoto and the mosaic by swiping with the reference map and measuring prominent intersections. It is important to note here that many of the roads in the City may have shifted or expanded since 1951 and there naturally may be some discrepancy with the DRG. Therefore I only used prominent intersections that appeared to exist during both time periods. I observed that these intersections varied from the DRG by 0 to 6 meters. I also obtained the City Street Centerline shapefile from Sam Hottinger to measure the accuracy of the photos with some sample data from the City. The prominent intersections and streets in the orthophotos varied from the Centerline file by 0 meters to 6 meters, generally in the southwest direction. This was a very interesting assignment because it compiled many of the techniques learned in remote sensing into one comprehensive project. It is very rewarding to serve the needs of the City and hopefully they will be able to put our work to good use.<\/span><\/p><\/div><\/div><\/div>",
"extent": {
"xmin": -8784756.8762,
"ymin": 4635991.191600002,
"xmax": -8775210.1262,
"ymax": 4649515.941600002,
"spatialReference": {
"wkid": 102100,
"latestWkid": 3857
}
},
"initialExtent": {
"xmin": -8784756.8762,
"ymin": 4635991.191600002,
"xmax": -8775210.1262,
"ymax": 4649515.941600002,
"spatialReference": {
"wkid": 102100,
"latestWkid": 3857
}
},
"fullExtent": {
"xmin": -8784756.8762,
"ymin": 4635991.191600002,
"xmax": -8775210.1262,
"ymax": 4649515.941600002,
"spatialReference": {
"wkid": 102100,
"latestWkid": 3857
}
},
"sortableFields": "MinPS,MaxPS,LowPS,HighPS,CenterX,CenterY,ZOrder,Shape_Length,Shape_Area",
"bandCount": 1,
"pixelType": "U8",
"minValues": [
0
],
"maxValues": [
255
],
"meanValues": [
146.09798389116398
],
"stdvValues": [
40.871398900998166
],
"hasMultidimensions": false,
"pixelSizeX": 0.75,
"pixelSizeY": 0.75,
"meanPixelSize": 0.75,
"datasetFormat": "AMD",
"uncompressedSize": 229542057,
"blockWidth": 2048,
"blockHeight": 256,
"compressionType": "None",
"bandNames": [
"Band_1"
],
"allowCopy": true,
"allowAnalysis": true,
"itemAccess": false,
"inspectionCapabilities": "",
"minPixelSize": 0,
"maxPixelSize": 76.43702828507317,
"copyrightText": "JMU, City of Harrisonburg",
"serviceDataType": "esriImageServiceDataTypeGeneric",
"serviceSourceType": "esriImageServiceSourceTypeMosaicDataset",
"objectIdField": "OBJECTID",
"fields": [
{
"name": "OBJECTID",
"type": "esriFieldTypeOID",
"alias": "OBJECTID",
"domain": null
},
{
"name": "Shape",
"type": "esriFieldTypeGeometry",
"alias": "Shape",
"domain": null
},
{
"name": "Name",
"type": "esriFieldTypeString",
"alias": "Name",
"domain": null,
"length": 200
},
{
"name": "MinPS",
"type": "esriFieldTypeDouble",
"alias": "MinPS",
"domain": null
},
{
"name": "MaxPS",
"type": "esriFieldTypeDouble",
"alias": "MaxPS",
"domain": null
},
{
"name": "LowPS",
"type": "esriFieldTypeDouble",
"alias": "LowPS",
"domain": null
},
{
"name": "HighPS",
"type": "esriFieldTypeDouble",
"alias": "HighPS",
"domain": null
},
{
"name": "Category",
"type": "esriFieldTypeInteger",
"alias": "Category",
"domain": {
"type": "codedValue",
"name": "MosaicCatalogItemCategoryDomain",
"description": "Catalog item categories.",
"codedValues": [
{
"name": "Unknown",
"code": 0
},
{
"name": "Primary",
"code": 1
},
{
"name": "Overview",
"code": 2
},
{
"name": "Unprocessed Overview",
"code": 3
},
{
"name": "Partial Overview",
"code": 4
},
{
"name": "Inactive",
"code": 5
},
{
"name": "Uploaded",
"code": 253
},
{
"name": "Incomplete",
"code": 254
},
{
"name": "Custom",
"code": 255
}
],
"mergePolicy": "esriMPTDefaultValue",
"splitPolicy": "esriSPTDefaultValue"
}
},
{
"name": "Tag",
"type": "esriFieldTypeString",
"alias": "Tag",
"domain": null,
"length": 100
},
{
"name": "GroupName",
"type": "esriFieldTypeString",
"alias": "GroupName",
"domain": null,
"length": 100
},
{
"name": "ProductName",
"type": "esriFieldTypeString",
"alias": "ProductName",
"domain": null,
"length": 100
},
{
"name": "CenterX",
"type": "esriFieldTypeDouble",
"alias": "CenterX",
"domain": null
},
{
"name": "CenterY",
"type": "esriFieldTypeDouble",
"alias": "CenterY",
"domain": null
},
{
"name": "ZOrder",
"type": "esriFieldTypeInteger",
"alias": "ZOrder",
"domain": null
},
{
"name": "Shape_Length",
"type": "esriFieldTypeDouble",
"alias": "Shape_Length",
"domain": null
},
{
"name": "Shape_Area",
"type": "esriFieldTypeDouble",
"alias": "Shape_Area",
"domain": null
}
],
"capabilities": "Catalog,Mensuration,Image,Metadata",
"defaultMosaicMethod": "Northwest",
"allowedMosaicMethods": "NorthWest,Center,LockRaster,ByAttribute,Nadir,Viewpoint,Seamline,None",
"sortField": "",
"sortValue": null,
"sortAscending": true,
"mosaicOperator": "First",
"maxDownloadSizeLimit": 2048,
"defaultCompressionQuality": 75,
"defaultResamplingMethod": "Bilinear",
"maxImageHeight": 4100,
"maxImageWidth": 15000,
"maxRecordCount": 1000,
"maxDownloadImageCount": 20,
"maxMosaicImageCount": 20,
"singleFusedMapCache": true,
"tileInfo": {
"rows": 256,
"cols": 256,
"dpi": 96,
"format": "MIXED",
"compressionQuality": 90,
"origin": {
"x": -2.0037508342787E7,
"y": 2.0037508342787E7
},
"spatialReference": {
"wkid": 102100,
"latestWkid": 3857
},
"lods": [
{
"level": 0,
"resolution": 156543.033928,
"scale": 5.91657527591555E8
},
{
"level": 1,
"resolution": 78271.5169639999,
"scale": 2.95828763795777E8
},
{
"level": 2,
"resolution": 39135.7584820001,
"scale": 1.47914381897889E8
},
{
"level": 3,
"resolution": 19567.8792409999,
"scale": 7.3957190948944E7
},
{
"level": 4,
"resolution": 9783.93962049996,
"scale": 3.6978595474472E7
},
{
"level": 5,
"resolution": 4891.96981024998,
"scale": 1.8489297737236E7
},
{
"level": 6,
"resolution": 2445.98490512499,
"scale": 9244648.868618
},
{
"level": 7,
"resolution": 1222.99245256249,
"scale": 4622324.434309
},
{
"level": 8,
"resolution": 611.49622628138,
"scale": 2311162.217155
},
{
"level": 9,
"resolution": 305.748113140558,
"scale": 1155581.108577
},
{
"level": 10,
"resolution": 152.874056570411,
"scale": 577790.554289
},
{
"level": 11,
"resolution": 76.4370282850732,
"scale": 288895.277144
},
{
"level": 12,
"resolution": 38.2185141425366,
"scale": 144447.638572
},
{
"level": 13,
"resolution": 19.1092570712683,
"scale": 72223.819286
},
{
"level": 14,
"resolution": 9.55462853563415,
"scale": 36111.909643
},
{
"level": 15,
"resolution": 4.77731426794937,
"scale": 18055.954822
},
{
"level": 16,
"resolution": 2.38865713397468,
"scale": 9027.977411
},
{
"level": 17,
"resolution": 1.19432856685505,
"scale": 4513.988705
},
{
"level": 18,
"resolution": 0.597164283559817,
"scale": 2256.994353
},
{
"level": 19,
"resolution": 0.298582141647617,
"scale": 1128.497176
},
{
"level": 20,
"resolution": 0.14929107082380833,
"scale": 564.248588
},
{
"level": 21,
"resolution": 0.07464553541190416,
"scale": 282.124294
},
{
"level": 22,
"resolution": 0.03732276770595208,
"scale": 141.062147
},
{
"level": 23,
"resolution": 0.01866138385297604,
"scale": 70.5310735
}
]
},
"storageInfo": {
"storageFormat": "esriMapCacheStorageModeCompactV2",
"packetSize": 128
},
"cacheType": "Map",
"allowRasterFunction": true,
"rasterFunctionInfos": [
{
"name": "None",
"description": "",
"help": ""
}
],
"rasterTypeInfos": [
{
"name": "Raster Dataset",
"description": "Supports all ArcGIS Raster Datasets",
"help": ""
}
],
"mensurationCapabilities": "Basic",
"hasHistograms": true,
"hasColormap": false,
"hasRasterAttributeTable": false,
"minScale": 288895.277144,
"maxScale": 0,
"exportTilesAllowed": false,
"supportsStatistics": true,
"supportsAdvancedQueries": true,
"editFieldsInfo": null,
"ownershipBasedAccessControlForRasters": null,
"allowComputeTiePoints": false,
"useStandardizedQueries": true,
"advancedQueryCapabilities": {
"useStandardizedQueries": true,
"supportsStatistics": true,
"supportsOrderBy": true,
"supportsDistinct": true,
"supportsPagination": true
},
"spatialReference": {
"wkid": 102100,
"latestWkid": 3857
},
"resampling": true
}