{ "currentVersion": 11.3, "serviceDescription": "
The orthoimagery in this image service was taken on 11/23/1966 over Harrisonburg, VA. Data was supplied from James Madison University. Dr. Glen Gustafson's ISAT Applied GIS Lab created this mosaic for the City of Harrisonburg from scanned prints. The dataset's coordinate system is WGS 1984 Web Mercator (Auxiliary Sphere). A cache was built using the ArcGIS Online/Bing Maps/Google Maps tiling scheme containing 11 levels ranging from 1:288,895 to 1:282.<\/span><\/p> Metadata from JMU students<\/span><\/p> 1) April 30, 2004 - Rebecca Farmer<\/span><\/p> Orthocorrection of the City of Harrisonburg 1966<\/span><\/p> I was involved with the Harrisonburg City Aerial Mapping Project. The project entailed the georeferencing and the orthocorrecting of historical aerial photography for the City of Harrisonburg, 1966, in ERDAS Imagine. Once the orthocorrection was completed, a mosaic was combined of each photograph into a single photomap, one for each year of aerial photography.<\/span><\/p> This lab entailed orthocorrecting aerial photographs of the City of Harrisonburg for the year 1966. The input materials included three scanned aerial photographs, exposures 223, 224, and 225, of the city taken on November 23, 1966, a digital elevation model with 30 meter pixels, and a digital raster graphic of the area.<\/span><\/p> My first task was to properly scan the three air photos. I then imported the images into ERDAS. My next step was to orthocorrect each of the three air photos. To orthocorrect the image in ERDAS, I selected camera as the geometric model. The camera correction model entailed importing the DEM, selecting the focal length of the camera, digitizing the fiducials and selecting the projection. For exposure 223 through 225, the image indicated the focal length was 208.99mm. After the camera model properties were complete, I could begin georeferencing my image. For exposure 223, I used nine points to georeference with a total RMSE error of 7.8788. I also used nine points to georeference for exposure 224 which gave me a final RMSE of 5.0610 for that exposure. For exposure 225, I used seven points to georeference, and received an RMSE of 5.7482. The images were then each resampled, and three orthophotos were produced.<\/span><\/p> For quality assurance of my work, I checked the information on the image information screen to see if my images had the correct projection. I found that all images had the correct projection, UTM Zone 17, Clarke 1866, and NAD27; and all images were unsigned 8-bit data with pyramid layers present and a pixel size of one meter. I then used the swipe tool in ERDAS to compare my images with the Harrisonburg Reference DRG; each image lined up well with the DRG\u2019s features.<\/span><\/p> The last step required Sarah Coleman and I to mosaic the six images together. Using ERDAS\u2019s Data Prep, we cropped borders by 30% and feathered our images. Our mosaic had the correct projection information.<\/span><\/p> 2) April 17, 2004 - Sarah Coleman<\/span><\/p> Orthocorrection of the City of Harrisonburg<\/span><\/p> I was involved with the Harrisonburg City Aerial Mapping Project. The project entails georeferencing and orthocorrecting historical aerial photography for the City of Harrisonburg in ERDAS Imagine. Once the orthocorrection is completed, a mosaic will combine each photograph into a single photomap, one for each year of aerial photography. Each mosaic will then be set into a \"Map Composition\" to produce a formal photomap, which can be used as a backdrop for any GIS operations at the City.<\/span><\/p> This lab entailed orthocorrecting aerial photographs of the City of Harrisonburg. The input materials included three scanned aerial photographs, exposures 12, 13, and 14, of the city taken on November 23, 1966, a digital elevation model with 30 meter pixels, and a digital raster graphic of the area.<\/span><\/p> To orthocorrect the image in ERDAS, I selected camera as the geometric model. The camera correction model entailed importing the DEM, selecting the focal length of the camera, digitizing the fiducials and selecting the projection. For exposure 12, the image indicated the focal length was 208.99mm. The error of the digitized fiducials was 3.8. For exposure 13, the error was 6.5. Finally for exposure 14, it was 7.5. After the camera model properties were complete, I georeferenced my image. Only three GCP's are needed; however, I used eleven for exposure 12. The RMS error was 8.0 pixels. Nine points were selected for images 13 and 14. The RMS error for exposure 13 was 7.0. Exposure 14 had an error of 6.4. The images were then each resampled, and three orthophotos were produced.<\/span><\/p> The quality of the orthocorrected images is less than the scanned image. Data is lost when any image is orthocorrected. The images information screen reveals the correct projection (UTM Zone 17, Clarke 1866, and NAD27), unsigned 8-bit data with pyramid layers present and a pixel size of one meter. The histograms are fairly normally distributed. The images were swiped with the DRG. Each image lined up extremely well with the map's features.<\/span><\/p> Lastly, Rebecca Farmer and I mosaicked our images together. Using ERDAS's Data Prep, we cropped borders off and feathered our images. The final product had a fairly normally distributed histogram, the correct projection information, and it lined up well with the Digital Raster Graphic's features.<\/span><\/p><\/div><\/div><\/div>",
"name": "Imagery/Imagery_1966",
"description": " The orthoimagery in this image service was taken on 11/23/1966 over Harrisonburg, VA. Data was supplied from James Madison University. Dr. Glen Gustafson's ISAT Applied GIS Lab created this mosaic for the City of Harrisonburg from scanned prints. The dataset's coordinate system is WGS 1984 Web Mercator (Auxiliary Sphere). A cache was built using the ArcGIS Online/Bing Maps/Google Maps tiling scheme containing 11 levels ranging from 1:288,895 to 1:282.<\/span><\/p> Metadata from JMU students<\/span><\/p> 1) April 30, 2004 - Rebecca Farmer<\/span><\/p> Orthocorrection of the City of Harrisonburg 1966<\/span><\/p> I was involved with the Harrisonburg City Aerial Mapping Project. The project entailed the georeferencing and the orthocorrecting of historical aerial photography for the City of Harrisonburg, 1966, in ERDAS Imagine. Once the orthocorrection was completed, a mosaic was combined of each photograph into a single photomap, one for each year of aerial photography.<\/span><\/p> This lab entailed orthocorrecting aerial photographs of the City of Harrisonburg for the year 1966. The input materials included three scanned aerial photographs, exposures 223, 224, and 225, of the city taken on November 23, 1966, a digital elevation model with 30 meter pixels, and a digital raster graphic of the area.<\/span><\/p> My first task was to properly scan the three air photos. I then imported the images into ERDAS. My next step was to orthocorrect each of the three air photos. To orthocorrect the image in ERDAS, I selected camera as the geometric model. The camera correction model entailed importing the DEM, selecting the focal length of the camera, digitizing the fiducials and selecting the projection. For exposure 223 through 225, the image indicated the focal length was 208.99mm. After the camera model properties were complete, I could begin georeferencing my image. For exposure 223, I used nine points to georeference with a total RMSE error of 7.8788. I also used nine points to georeference for exposure 224 which gave me a final RMSE of 5.0610 for that exposure. For exposure 225, I used seven points to georeference, and received an RMSE of 5.7482. The images were then each resampled, and three orthophotos were produced.<\/span><\/p> For quality assurance of my work, I checked the information on the image information screen to see if my images had the correct projection. I found that all images had the correct projection, UTM Zone 17, Clarke 1866, and NAD27; and all images were unsigned 8-bit data with pyramid layers present and a pixel size of one meter. I then used the swipe tool in ERDAS to compare my images with the Harrisonburg Reference DRG; each image lined up well with the DRG\u2019s features.<\/span><\/p> The last step required Sarah Coleman and I to mosaic the six images together. Using ERDAS\u2019s Data Prep, we cropped borders by 30% and feathered our images. Our mosaic had the correct projection information.<\/span><\/p> 2) April 17, 2004 - Sarah Coleman<\/span><\/p> Orthocorrection of the City of Harrisonburg<\/span><\/p> I was involved with the Harrisonburg City Aerial Mapping Project. The project entails georeferencing and orthocorrecting historical aerial photography for the City of Harrisonburg in ERDAS Imagine. Once the orthocorrection is completed, a mosaic will combine each photograph into a single photomap, one for each year of aerial photography. Each mosaic will then be set into a \"Map Composition\" to produce a formal photomap, which can be used as a backdrop for any GIS operations at the City.<\/span><\/p> This lab entailed orthocorrecting aerial photographs of the City of Harrisonburg. The input materials included three scanned aerial photographs, exposures 12, 13, and 14, of the city taken on November 23, 1966, a digital elevation model with 30 meter pixels, and a digital raster graphic of the area.<\/span><\/p> To orthocorrect the image in ERDAS, I selected camera as the geometric model. The camera correction model entailed importing the DEM, selecting the focal length of the camera, digitizing the fiducials and selecting the projection. For exposure 12, the image indicated the focal length was 208.99mm. The error of the digitized fiducials was 3.8. For exposure 13, the error was 6.5. Finally for exposure 14, it was 7.5. After the camera model properties were complete, I georeferenced my image. Only three GCP's are needed; however, I used eleven for exposure 12. The RMS error was 8.0 pixels. Nine points were selected for images 13 and 14. The RMS error for exposure 13 was 7.0. Exposure 14 had an error of 6.4. The images were then each resampled, and three orthophotos were produced.<\/span><\/p> The quality of the orthocorrected images is less than the scanned image. Data is lost when any image is orthocorrected. The images information screen reveals the correct projection (UTM Zone 17, Clarke 1866, and NAD27), unsigned 8-bit data with pyramid layers present and a pixel size of one meter. The histograms are fairly normally distributed. The images were swiped with the DRG. Each image lined up extremely well with the map's features.<\/span><\/p> Lastly, Rebecca Farmer and I mosaicked our images together. Using ERDAS's Data Prep, we cropped borders off and feathered our images. The final product had a fairly normally distributed histogram, the correct projection information, and it lined up well with the Digital Raster Graphic's features.<\/span><\/p><\/div><\/div><\/div>",
"extent": {
"xmin": -8784389.2004,
"ymin": 4637342.339400001,
"xmax": -8775230.2004,
"ymax": 4649236.339400001,
"spatialReference": {
"wkid": 102100,
"latestWkid": 3857
}
},
"initialExtent": {
"xmin": -8784389.2004,
"ymin": 4637342.339400001,
"xmax": -8775230.2004,
"ymax": 4649236.339400001,
"spatialReference": {
"wkid": 102100,
"latestWkid": 3857
}
},
"fullExtent": {
"xmin": -8784389.2004,
"ymin": 4637342.339400001,
"xmax": -8775230.2004,
"ymax": 4649236.339400001,
"spatialReference": {
"wkid": 102100,
"latestWkid": 3857
}
},
"sortableFields": "MinPS,MaxPS,LowPS,HighPS,CenterX,CenterY,ZOrder,Shape_Length,Shape_Area",
"bandCount": 1,
"pixelType": "U8",
"minValues": [
0.014056224899598346
],
"maxValues": [
254.98594377510037
],
"meanValues": [
108.64451021157925
],
"stdvValues": [
40.55476965581459
],
"hasMultidimensions": false,
"pixelSizeX": 1,
"pixelSizeY": 1,
"meanPixelSize": 1,
"datasetFormat": "AMD",
"uncompressedSize": 108937146,
"blockWidth": 2048,
"blockHeight": 256,
"compressionType": "None",
"bandNames": [
"Band_1"
],
"allowCopy": true,
"allowAnalysis": true,
"itemAccess": false,
"inspectionCapabilities": "",
"minPixelSize": 0,
"maxPixelSize": 76.43702828507317,
"copyrightText": "JMU, City of Harrisonburg",
"serviceDataType": "esriImageServiceDataTypeGeneric",
"serviceSourceType": "esriImageServiceSourceTypeMosaicDataset",
"objectIdField": "OBJECTID",
"fields": [
{
"name": "OBJECTID",
"type": "esriFieldTypeOID",
"alias": "OBJECTID",
"domain": null
},
{
"name": "Shape",
"type": "esriFieldTypeGeometry",
"alias": "Shape",
"domain": null
},
{
"name": "Name",
"type": "esriFieldTypeString",
"alias": "Name",
"domain": null,
"length": 200
},
{
"name": "MinPS",
"type": "esriFieldTypeDouble",
"alias": "MinPS",
"domain": null
},
{
"name": "MaxPS",
"type": "esriFieldTypeDouble",
"alias": "MaxPS",
"domain": null
},
{
"name": "LowPS",
"type": "esriFieldTypeDouble",
"alias": "LowPS",
"domain": null
},
{
"name": "HighPS",
"type": "esriFieldTypeDouble",
"alias": "HighPS",
"domain": null
},
{
"name": "Category",
"type": "esriFieldTypeInteger",
"alias": "Category",
"domain": {
"type": "codedValue",
"name": "MosaicCatalogItemCategoryDomain",
"description": "Catalog item categories.",
"codedValues": [
{
"name": "Unknown",
"code": 0
},
{
"name": "Primary",
"code": 1
},
{
"name": "Overview",
"code": 2
},
{
"name": "Unprocessed Overview",
"code": 3
},
{
"name": "Partial Overview",
"code": 4
},
{
"name": "Inactive",
"code": 5
},
{
"name": "Uploaded",
"code": 253
},
{
"name": "Incomplete",
"code": 254
},
{
"name": "Custom",
"code": 255
}
],
"mergePolicy": "esriMPTDefaultValue",
"splitPolicy": "esriSPTDefaultValue"
}
},
{
"name": "Tag",
"type": "esriFieldTypeString",
"alias": "Tag",
"domain": null,
"length": 100
},
{
"name": "GroupName",
"type": "esriFieldTypeString",
"alias": "GroupName",
"domain": null,
"length": 100
},
{
"name": "ProductName",
"type": "esriFieldTypeString",
"alias": "ProductName",
"domain": null,
"length": 100
},
{
"name": "CenterX",
"type": "esriFieldTypeDouble",
"alias": "CenterX",
"domain": null
},
{
"name": "CenterY",
"type": "esriFieldTypeDouble",
"alias": "CenterY",
"domain": null
},
{
"name": "ZOrder",
"type": "esriFieldTypeInteger",
"alias": "ZOrder",
"domain": null
},
{
"name": "Shape_Length",
"type": "esriFieldTypeDouble",
"alias": "Shape_Length",
"domain": null
},
{
"name": "Shape_Area",
"type": "esriFieldTypeDouble",
"alias": "Shape_Area",
"domain": null
}
],
"capabilities": "Catalog,Mensuration,Image,Metadata",
"defaultMosaicMethod": "Northwest",
"allowedMosaicMethods": "NorthWest,Center,LockRaster,ByAttribute,Nadir,Viewpoint,Seamline,None",
"sortField": "",
"sortValue": null,
"sortAscending": true,
"mosaicOperator": "First",
"maxDownloadSizeLimit": 2048,
"defaultCompressionQuality": 75,
"defaultResamplingMethod": "Bilinear",
"maxImageHeight": 4100,
"maxImageWidth": 15000,
"maxRecordCount": 1000,
"maxDownloadImageCount": 20,
"maxMosaicImageCount": 20,
"singleFusedMapCache": true,
"tileInfo": {
"rows": 256,
"cols": 256,
"dpi": 96,
"format": "MIXED",
"compressionQuality": 90,
"origin": {
"x": -2.0037508342787E7,
"y": 2.0037508342787E7
},
"spatialReference": {
"wkid": 102100,
"latestWkid": 3857
},
"lods": [
{
"level": 0,
"resolution": 156543.033928,
"scale": 5.91657527591555E8
},
{
"level": 1,
"resolution": 78271.5169639999,
"scale": 2.95828763795777E8
},
{
"level": 2,
"resolution": 39135.7584820001,
"scale": 1.47914381897889E8
},
{
"level": 3,
"resolution": 19567.8792409999,
"scale": 7.3957190948944E7
},
{
"level": 4,
"resolution": 9783.93962049996,
"scale": 3.6978595474472E7
},
{
"level": 5,
"resolution": 4891.96981024998,
"scale": 1.8489297737236E7
},
{
"level": 6,
"resolution": 2445.98490512499,
"scale": 9244648.868618
},
{
"level": 7,
"resolution": 1222.99245256249,
"scale": 4622324.434309
},
{
"level": 8,
"resolution": 611.49622628138,
"scale": 2311162.217155
},
{
"level": 9,
"resolution": 305.748113140558,
"scale": 1155581.108577
},
{
"level": 10,
"resolution": 152.874056570411,
"scale": 577790.554289
},
{
"level": 11,
"resolution": 76.4370282850732,
"scale": 288895.277144
},
{
"level": 12,
"resolution": 38.2185141425366,
"scale": 144447.638572
},
{
"level": 13,
"resolution": 19.1092570712683,
"scale": 72223.819286
},
{
"level": 14,
"resolution": 9.55462853563415,
"scale": 36111.909643
},
{
"level": 15,
"resolution": 4.77731426794937,
"scale": 18055.954822
},
{
"level": 16,
"resolution": 2.38865713397468,
"scale": 9027.977411
},
{
"level": 17,
"resolution": 1.19432856685505,
"scale": 4513.988705
},
{
"level": 18,
"resolution": 0.597164283559817,
"scale": 2256.994353
},
{
"level": 19,
"resolution": 0.298582141647617,
"scale": 1128.497176
},
{
"level": 20,
"resolution": 0.14929107082380833,
"scale": 564.248588
},
{
"level": 21,
"resolution": 0.07464553541190416,
"scale": 282.124294
},
{
"level": 22,
"resolution": 0.03732276770595208,
"scale": 141.062147
},
{
"level": 23,
"resolution": 0.01866138385297604,
"scale": 70.5310735
}
]
},
"storageInfo": {
"storageFormat": "esriMapCacheStorageModeCompactV2",
"packetSize": 128
},
"cacheType": "Map",
"allowRasterFunction": true,
"rasterFunctionInfos": [
{
"name": "None",
"description": "",
"help": ""
}
],
"rasterTypeInfos": [
{
"name": "Raster Dataset",
"description": "Supports all ArcGIS Raster Datasets",
"help": ""
}
],
"mensurationCapabilities": "Basic",
"hasHistograms": true,
"hasColormap": false,
"hasRasterAttributeTable": false,
"minScale": 288895.277144,
"maxScale": 0,
"exportTilesAllowed": false,
"supportsStatistics": true,
"supportsAdvancedQueries": true,
"editFieldsInfo": null,
"ownershipBasedAccessControlForRasters": null,
"allowComputeTiePoints": false,
"useStandardizedQueries": true,
"advancedQueryCapabilities": {
"useStandardizedQueries": true,
"supportsStatistics": true,
"supportsOrderBy": true,
"supportsDistinct": true,
"supportsPagination": true
},
"spatialReference": {
"wkid": 102100,
"latestWkid": 3857
},
"resampling": true
}