{ "currentVersion": 11.3, "serviceDescription": "
The orthoimagery in this image service was taken on 9/24/1974 over Harrisonburg, VA. Data was supplied from James Madison University. Dr. Glen Gustafson's ISAT Applied GIS Lab created this mosaic for the City of Harrisonburg from scanned prints. The dataset's coordinate system is WGS 1984 Web Mercator (Auxiliary Sphere). A cache was built using the the ArcGIS Online/Bing Maps/Google Maps tiling scheme containing 11 levels ranging from 1:288,895 to 1:282.<\/span><\/p> Metadata from JMU Student:<\/span><\/p> Dan Williams - March 22, 2004<\/span><\/p> Geog385 - Orthocorrected Mosaic<\/span><\/p> The assignment parameters consisted of mosaicking Harrisonburg, VA, September 24, 1974 Aerial photographs exposures 87 and 88. These photos had been orthocorrected in a previous assignment. I began my operations with a quality control check of the provided data.I was immediately unsatisfied with the results of mosaicking initials MSC's (exposure 87) output IMAGINE Image (.img) and my output .img (exposure 88) files from the previous orthophoto project. The photos were not aligned properly; the cause being differing orthocorrection results, and the visual quality was not consistent across both images. Perusing the files, I examined file sizes and recognized MSC's output .img was 32 megabytes (MB) and my output .img was 45.3 MB. After further investigation I learned that his resample pixel size was 1.75 meters and my resample pixel size was 1.5 meters. Looking at JG's data (exposure 87), I came to the conclusion that I did not have a good input image for exposure 87. JG's output image had very poor quality and it was 62.2 MB in size! Scrutinizing JG's output image, I learned that the image quality was poor due to the fact that his resampling method was probably 'nearest neighbor' and his file was unnecessarily big because his output pixel size was 1.25 meters. I made the decision to see if I could get better results by reprocessing the orthocorrection process for exposure 87. I first tried MSC's data, but was unable to copy his input data because of file naming/network conflicts. Therefore I used JG's data, but this time correcting his mistakes: using 'bilinear interpolation' for the resampling method and setting the output pixel size to 1.5, matching exposure 88. This produced much more desirable results. The best alignment was obtained by putting 87 over 88 in order. My computed active area had a crop area of 30%. Alignment and visual quality (i.e. brightness/contrast) of my output image was not flawless. I think better results could be obtained by completing the process individually from start to finish. I left my final mosaicked output image uncropped per Dr. Gustafson's instructions.<\/span><\/p><\/div><\/div><\/div>",
"name": "Imagery/Imagery_1974",
"description": " The orthoimagery in this image service was taken on 9/24/1974 over Harrisonburg, VA. Data was supplied from James Madison University. Dr. Glen Gustafson's ISAT Applied GIS Lab created this mosaic for the City of Harrisonburg from scanned prints. The dataset's coordinate system is WGS 1984 Web Mercator (Auxiliary Sphere). A cache was built using the the ArcGIS Online/Bing Maps/Google Maps tiling scheme containing 11 levels ranging from 1:288,895 to 1:282.<\/span><\/p> Metadata from JMU Student:<\/span><\/p> Dan Williams - March 22, 2004<\/span><\/p> Geog385 - Orthocorrected Mosaic<\/span><\/p> The assignment parameters consisted of mosaicking Harrisonburg, VA, September 24, 1974 Aerial photographs exposures 87 and 88. These photos had been orthocorrected in a previous assignment. I began my operations with a quality control check of the provided data.I was immediately unsatisfied with the results of mosaicking initials MSC's (exposure 87) output IMAGINE Image (.img) and my output .img (exposure 88) files from the previous orthophoto project. The photos were not aligned properly; the cause being differing orthocorrection results, and the visual quality was not consistent across both images. Perusing the files, I examined file sizes and recognized MSC's output .img was 32 megabytes (MB) and my output .img was 45.3 MB. After further investigation I learned that his resample pixel size was 1.75 meters and my resample pixel size was 1.5 meters. Looking at JG's data (exposure 87), I came to the conclusion that I did not have a good input image for exposure 87. JG's output image had very poor quality and it was 62.2 MB in size! Scrutinizing JG's output image, I learned that the image quality was poor due to the fact that his resampling method was probably 'nearest neighbor' and his file was unnecessarily big because his output pixel size was 1.25 meters. I made the decision to see if I could get better results by reprocessing the orthocorrection process for exposure 87. I first tried MSC's data, but was unable to copy his input data because of file naming/network conflicts. Therefore I used JG's data, but this time correcting his mistakes: using 'bilinear interpolation' for the resampling method and setting the output pixel size to 1.5, matching exposure 88. This produced much more desirable results. The best alignment was obtained by putting 87 over 88 in order. My computed active area had a crop area of 30%. Alignment and visual quality (i.e. brightness/contrast) of my output image was not flawless. I think better results could be obtained by completing the process individually from start to finish. I left my final mosaicked output image uncropped per Dr. Gustafson's instructions.<\/span><\/p><\/div><\/div><\/div>",
"extent": {
"xmin": -8785147.1426,
"ymin": 4633114.067100003,
"xmax": -8773562.6426,
"ymax": 4648301.567100003,
"spatialReference": {
"wkid": 102100,
"latestWkid": 3857
}
},
"initialExtent": {
"xmin": -8785147.1426,
"ymin": 4633114.067100003,
"xmax": -8773562.6426,
"ymax": 4648301.567100003,
"spatialReference": {
"wkid": 102100,
"latestWkid": 3857
}
},
"fullExtent": {
"xmin": -8785147.1426,
"ymin": 4633114.067100003,
"xmax": -8773562.6426,
"ymax": 4648301.567100003,
"spatialReference": {
"wkid": 102100,
"latestWkid": 3857
}
},
"sortableFields": "MinPS,MaxPS,LowPS,HighPS,CenterX,CenterY,ZOrder,Shape_Length,Shape_Area",
"bandCount": 1,
"pixelType": "U8",
"minValues": [
0
],
"maxValues": [
255
],
"meanValues": [
114.43881772866885
],
"stdvValues": [
41.84254878836704
],
"hasMultidimensions": false,
"pixelSizeX": 1.5,
"pixelSizeY": 1.5,
"meanPixelSize": 1.5,
"datasetFormat": "AMD",
"uncompressedSize": 78195375,
"blockWidth": 2048,
"blockHeight": 256,
"compressionType": "None",
"bandNames": [
"Band_1"
],
"allowCopy": true,
"allowAnalysis": true,
"itemAccess": false,
"inspectionCapabilities": "",
"minPixelSize": 0,
"maxPixelSize": 76.43702828507317,
"copyrightText": "JMU, City of Harrisonburg",
"serviceDataType": "esriImageServiceDataTypeGeneric",
"serviceSourceType": "esriImageServiceSourceTypeMosaicDataset",
"objectIdField": "OBJECTID",
"fields": [
{
"name": "OBJECTID",
"type": "esriFieldTypeOID",
"alias": "OBJECTID",
"domain": null
},
{
"name": "Shape",
"type": "esriFieldTypeGeometry",
"alias": "Shape",
"domain": null
},
{
"name": "Name",
"type": "esriFieldTypeString",
"alias": "Name",
"domain": null,
"length": 200
},
{
"name": "MinPS",
"type": "esriFieldTypeDouble",
"alias": "MinPS",
"domain": null
},
{
"name": "MaxPS",
"type": "esriFieldTypeDouble",
"alias": "MaxPS",
"domain": null
},
{
"name": "LowPS",
"type": "esriFieldTypeDouble",
"alias": "LowPS",
"domain": null
},
{
"name": "HighPS",
"type": "esriFieldTypeDouble",
"alias": "HighPS",
"domain": null
},
{
"name": "Category",
"type": "esriFieldTypeInteger",
"alias": "Category",
"domain": {
"type": "codedValue",
"name": "MosaicCatalogItemCategoryDomain",
"description": "Catalog item categories.",
"codedValues": [
{
"name": "Unknown",
"code": 0
},
{
"name": "Primary",
"code": 1
},
{
"name": "Overview",
"code": 2
},
{
"name": "Unprocessed Overview",
"code": 3
},
{
"name": "Partial Overview",
"code": 4
},
{
"name": "Inactive",
"code": 5
},
{
"name": "Uploaded",
"code": 253
},
{
"name": "Incomplete",
"code": 254
},
{
"name": "Custom",
"code": 255
}
],
"mergePolicy": "esriMPTDefaultValue",
"splitPolicy": "esriSPTDefaultValue"
}
},
{
"name": "Tag",
"type": "esriFieldTypeString",
"alias": "Tag",
"domain": null,
"length": 100
},
{
"name": "GroupName",
"type": "esriFieldTypeString",
"alias": "GroupName",
"domain": null,
"length": 100
},
{
"name": "ProductName",
"type": "esriFieldTypeString",
"alias": "ProductName",
"domain": null,
"length": 100
},
{
"name": "CenterX",
"type": "esriFieldTypeDouble",
"alias": "CenterX",
"domain": null
},
{
"name": "CenterY",
"type": "esriFieldTypeDouble",
"alias": "CenterY",
"domain": null
},
{
"name": "ZOrder",
"type": "esriFieldTypeInteger",
"alias": "ZOrder",
"domain": null
},
{
"name": "Shape_Length",
"type": "esriFieldTypeDouble",
"alias": "Shape_Length",
"domain": null
},
{
"name": "Shape_Area",
"type": "esriFieldTypeDouble",
"alias": "Shape_Area",
"domain": null
}
],
"capabilities": "Catalog,Mensuration,Image,Metadata",
"defaultMosaicMethod": "Northwest",
"allowedMosaicMethods": "NorthWest,Center,LockRaster,ByAttribute,Nadir,Viewpoint,Seamline,None",
"sortField": "",
"sortValue": null,
"sortAscending": true,
"mosaicOperator": "First",
"maxDownloadSizeLimit": 2048,
"defaultCompressionQuality": 75,
"defaultResamplingMethod": "Bilinear",
"maxImageHeight": 4100,
"maxImageWidth": 15000,
"maxRecordCount": 1000,
"maxDownloadImageCount": 20,
"maxMosaicImageCount": 20,
"singleFusedMapCache": true,
"tileInfo": {
"rows": 256,
"cols": 256,
"dpi": 96,
"format": "MIXED",
"compressionQuality": 90,
"origin": {
"x": -2.0037508342787E7,
"y": 2.0037508342787E7
},
"spatialReference": {
"wkid": 102100,
"latestWkid": 3857
},
"lods": [
{
"level": 0,
"resolution": 156543.033928,
"scale": 5.91657527591555E8
},
{
"level": 1,
"resolution": 78271.5169639999,
"scale": 2.95828763795777E8
},
{
"level": 2,
"resolution": 39135.7584820001,
"scale": 1.47914381897889E8
},
{
"level": 3,
"resolution": 19567.8792409999,
"scale": 7.3957190948944E7
},
{
"level": 4,
"resolution": 9783.93962049996,
"scale": 3.6978595474472E7
},
{
"level": 5,
"resolution": 4891.96981024998,
"scale": 1.8489297737236E7
},
{
"level": 6,
"resolution": 2445.98490512499,
"scale": 9244648.868618
},
{
"level": 7,
"resolution": 1222.99245256249,
"scale": 4622324.434309
},
{
"level": 8,
"resolution": 611.49622628138,
"scale": 2311162.217155
},
{
"level": 9,
"resolution": 305.748113140558,
"scale": 1155581.108577
},
{
"level": 10,
"resolution": 152.874056570411,
"scale": 577790.554289
},
{
"level": 11,
"resolution": 76.4370282850732,
"scale": 288895.277144
},
{
"level": 12,
"resolution": 38.2185141425366,
"scale": 144447.638572
},
{
"level": 13,
"resolution": 19.1092570712683,
"scale": 72223.819286
},
{
"level": 14,
"resolution": 9.55462853563415,
"scale": 36111.909643
},
{
"level": 15,
"resolution": 4.77731426794937,
"scale": 18055.954822
},
{
"level": 16,
"resolution": 2.38865713397468,
"scale": 9027.977411
},
{
"level": 17,
"resolution": 1.19432856685505,
"scale": 4513.988705
},
{
"level": 18,
"resolution": 0.597164283559817,
"scale": 2256.994353
},
{
"level": 19,
"resolution": 0.298582141647617,
"scale": 1128.497176
},
{
"level": 20,
"resolution": 0.14929107082380833,
"scale": 564.248588
},
{
"level": 21,
"resolution": 0.07464553541190416,
"scale": 282.124294
},
{
"level": 22,
"resolution": 0.03732276770595208,
"scale": 141.062147
},
{
"level": 23,
"resolution": 0.01866138385297604,
"scale": 70.5310735
}
]
},
"storageInfo": {
"storageFormat": "esriMapCacheStorageModeCompactV2",
"packetSize": 128
},
"cacheType": "Map",
"allowRasterFunction": true,
"rasterFunctionInfos": [
{
"name": "None",
"description": "",
"help": ""
}
],
"rasterTypeInfos": [
{
"name": "Raster Dataset",
"description": "Supports all ArcGIS Raster Datasets",
"help": ""
}
],
"mensurationCapabilities": "Basic",
"hasHistograms": true,
"hasColormap": false,
"hasRasterAttributeTable": false,
"minScale": 288895.277144,
"maxScale": 0,
"exportTilesAllowed": false,
"supportsStatistics": true,
"supportsAdvancedQueries": true,
"editFieldsInfo": null,
"ownershipBasedAccessControlForRasters": null,
"allowComputeTiePoints": false,
"useStandardizedQueries": true,
"advancedQueryCapabilities": {
"useStandardizedQueries": true,
"supportsStatistics": true,
"supportsOrderBy": true,
"supportsDistinct": true,
"supportsPagination": true
},
"spatialReference": {
"wkid": 102100,
"latestWkid": 3857
},
"resampling": true
}