<?xml version="1.0" encoding="UTF-8" standalone="no"?>
<metadata xml:lang="en">
<Esri>
<CreaDate>20230616</CreaDate>
<CreaTime>14333300</CreaTime>
<ArcGISFormat>1.0</ArcGISFormat>
<SyncOnce>FALSE</SyncOnce>
<DataProperties>
<lineage>
<Process Date="20230616" Name="" Time="143333" ToolSource="c:\program files\arcgis\pro\Resources\ArcToolbox\toolboxes\Data Management Tools.tbx\CreateMosaicDataset" export="">CreateMosaicDataset \\chdc-gisserv02\E\Imagery\MapProjects\Imagery_ImageServices\Imagery_ImageServices.gdb Imagery_2002 PROJCS["WGS_1984_Web_Mercator_Auxiliary_Sphere",GEOGCS["GCS_WGS_1984",DATUM["D_WGS_1984",SPHEROID["WGS_1984",6378137.0,298.257223563]],PRIMEM["Greenwich",0.0],UNIT["Degree",0.0174532925199433]],PROJECTION["Mercator_Auxiliary_Sphere"],PARAMETER["False_Easting",0.0],PARAMETER["False_Northing",0.0],PARAMETER["Central_Meridian",0.0],PARAMETER["Standard_Parallel_1",0.0],PARAMETER["Auxiliary_Sphere_Type",0.0],UNIT["Meter",1.0]] 3 "8-bit unsigned" "Natural color" "Red 630 690;Green 530 570;Blue 440 510"</Process>
<Process Date="20230616" Name="" Time="144843" ToolSource="c:\program files\arcgis\pro\Resources\ArcToolbox\toolboxes\Data Management Tools.tbx\AddRastersToMosaicDataset" export="">AddRastersToMosaicDataset \\chdc-gisserv02\E\Imagery\MapProjects\Imagery_ImageServices\Imagery_ImageServices.gdb\Imagery_2002 "Raster Dataset" \\chdc-gisserv02\E\Imagery\Data\2002\VGIN\20020201\GeoTIFF UPDATE_CELL_SIZES UPDATE_BOUNDARY NO_OVERVIEWS # 0 1500 # # SUBFOLDERS "Allow duplicates" BUILD_PYRAMIDS CALCULATE_STATISTICS NO_THUMBNAILS # NO_FORCE_SPATIAL_REFERENCE ESTIMATE_STATISTICS # NO_PIXEL_CACHE C:\Users\mikolinj\AppData\Local\Temp\ArcGISProTemp16880\Imagery_2002</Process>
</lineage>
<itemProps>
<imsContentType>002</imsContentType>
<itemName Sync="TRUE">Imagery_2002</itemName>
<itemLocation>
<linkage Sync="TRUE">file://\\chdc-gisserv02\E\Imagery\MapProjects\Imagery_ImageServices\Imagery_ImageServices.gdb</linkage>
<protocol Sync="TRUE">Local Area Network</protocol>
</itemLocation>
<nativeExtBox>
<westBL Sync="TRUE">-8785388.125300</westBL>
<eastBL Sync="TRUE">-8774681.241886</eastBL>
<southBL Sync="TRUE">4634528.579180</southBL>
<northBL Sync="TRUE">4649188.726500</northBL>
<exTypeCode Sync="TRUE">1</exTypeCode>
</nativeExtBox>
</itemProps>
<coordRef>
<type Sync="TRUE">Projected</type>
<geogcsn Sync="TRUE">GCS_WGS_1984</geogcsn>
<csUnits Sync="TRUE">Linear Unit: Meter (1.000000)</csUnits>
<projcsn Sync="TRUE">WGS_1984_Web_Mercator_Auxiliary_Sphere</projcsn>
<peXml Sync="TRUE">&lt;ProjectedCoordinateSystem xsi:type='typens:ProjectedCoordinateSystem' xmlns:xsi='http://www.w3.org/2001/XMLSchema-instance' xmlns:xs='http://www.w3.org/2001/XMLSchema' xmlns:typens='http://www.esri.com/schemas/ArcGIS/3.1.0'&gt;&lt;WKT&gt;PROJCS[&amp;quot;WGS_1984_Web_Mercator_Auxiliary_Sphere&amp;quot;,GEOGCS[&amp;quot;GCS_WGS_1984&amp;quot;,DATUM[&amp;quot;D_WGS_1984&amp;quot;,SPHEROID[&amp;quot;WGS_1984&amp;quot;,6378137.0,298.257223563]],PRIMEM[&amp;quot;Greenwich&amp;quot;,0.0],UNIT[&amp;quot;Degree&amp;quot;,0.0174532925199433]],PROJECTION[&amp;quot;Mercator_Auxiliary_Sphere&amp;quot;],PARAMETER[&amp;quot;False_Easting&amp;quot;,0.0],PARAMETER[&amp;quot;False_Northing&amp;quot;,0.0],PARAMETER[&amp;quot;Central_Meridian&amp;quot;,0.0],PARAMETER[&amp;quot;Standard_Parallel_1&amp;quot;,0.0],PARAMETER[&amp;quot;Auxiliary_Sphere_Type&amp;quot;,0.0],UNIT[&amp;quot;Meter&amp;quot;,1.0],AUTHORITY[&amp;quot;EPSG&amp;quot;,3857]]&lt;/WKT&gt;&lt;XOrigin&gt;-20037700&lt;/XOrigin&gt;&lt;YOrigin&gt;-30241100&lt;/YOrigin&gt;&lt;XYScale&gt;148923141.92838538&lt;/XYScale&gt;&lt;ZOrigin&gt;-100000&lt;/ZOrigin&gt;&lt;ZScale&gt;10000&lt;/ZScale&gt;&lt;MOrigin&gt;-100000&lt;/MOrigin&gt;&lt;MScale&gt;10000&lt;/MScale&gt;&lt;XYTolerance&gt;0.001&lt;/XYTolerance&gt;&lt;ZTolerance&gt;0.001&lt;/ZTolerance&gt;&lt;MTolerance&gt;0.001&lt;/MTolerance&gt;&lt;HighPrecision&gt;true&lt;/HighPrecision&gt;&lt;WKID&gt;102100&lt;/WKID&gt;&lt;LatestWKID&gt;3857&lt;/LatestWKID&gt;&lt;/ProjectedCoordinateSystem&gt;</peXml>
</coordRef>
<RasterProperties>
<General>
<PixelDepth Sync="TRUE">8</PixelDepth>
<HasColormap Sync="TRUE">FALSE</HasColormap>
<CompressionType Sync="TRUE">None</CompressionType>
<NumBands Sync="TRUE">3</NumBands>
<Format Sync="TRUE">AMD</Format>
<HasPyramids Sync="TRUE">TRUE</HasPyramids>
<SourceType Sync="TRUE">continuous</SourceType>
<PixelType Sync="TRUE">unsigned integer</PixelType>
<NoDataValue Sync="TRUE"/>
</General>
<Properties>
<MaxImageHeight Sync="TRUE">4100</MaxImageHeight>
<MaxImageWidth Sync="TRUE">15000</MaxImageWidth>
<MaxRecordCount Sync="TRUE">1000</MaxRecordCount>
<MaxDownloadImageCount Sync="TRUE">20</MaxDownloadImageCount>
<MaxDownloadSizeLimit Sync="TRUE">2048</MaxDownloadSizeLimit>
<MaxMosaicImageCount Sync="TRUE">20</MaxMosaicImageCount>
<DefaultCompressionQuality Sync="TRUE">75</DefaultCompressionQuality>
<DefaultCompressionTolerance Sync="TRUE">0.01</DefaultCompressionTolerance>
<BlendWidth Sync="TRUE">10</BlendWidth>
<ViewpointSpacingX Sync="TRUE">600</ViewpointSpacingX>
<ViewpointSpacingY Sync="TRUE">300</ViewpointSpacingY>
<AllowedItemMetadata Sync="TRUE">Basic</AllowedItemMetadata>
<DefaultResamplingMethod Sync="TRUE">1</DefaultResamplingMethod>
<AllowedMosaicMethods Sync="TRUE">NorthWest,Center,LockRaster,ByAttribute,Nadir,Viewpoint,Seamline,None</AllowedMosaicMethods>
<AllowedCompressions Sync="TRUE">None,JPEG,LZ77,LERC</AllowedCompressions>
<AllowedMensurationCapabilities Sync="TRUE">None</AllowedMensurationCapabilities>
<AvailableMensurationCapabilities Sync="TRUE">None,Basic,Base-Top Height,Top-Top Shadow Height,Base-Top Shadow Height,3D</AvailableMensurationCapabilities>
<ClipToBoundary Sync="TRUE">-1</ClipToBoundary>
<FootprintMayContainNoData Sync="TRUE">-1</FootprintMayContainNoData>
<CellSizeTolerance Sync="TRUE">0.8</CellSizeTolerance>
<MinimumPixelContribution Sync="TRUE">1</MinimumPixelContribution>
<AvailableMosaicMethods Sync="TRUE">NorthWest,Center,LockRaster,ByAttribute,Nadir,Viewpoint,Seamline,None</AvailableMosaicMethods>
<AvailableCompressionMethods Sync="TRUE">None,JPEG,LZ77,LERC</AvailableCompressionMethods>
<AvailableItemMetadataLevels Sync="TRUE">None,Basic,Full</AvailableItemMetadataLevels>
<BandDefinitionKeyword Sync="TRUE">NaturalColor</BandDefinitionKeyword>
<_docversion_ Sync="TRUE">10</_docversion_>
<AllowedFields Sync="TRUE">Name,MinPS,MaxPS,LowPS,HighPS,Tag,GroupName,ProductName,CenterX,CenterY,ZOrder,Shape_Length,Shape_Area</AllowedFields>
<MaxCellSize Sync="TRUE">3703.32740665413</MaxCellSize>
<LowCellSize Sync="TRUE">0.15240030480061</LowCellSize>
<HighCellSize Sync="TRUE">0.304800609601219</HighCellSize>
<PixelCacheLocation Sync="TRUE">C:\Users\mikolinj\AppData\Local\Temp\ArcGISProTemp16880\Imagery_2002</PixelCacheLocation>
</Properties>
<Functions Sync="TRUE">
<Function Description="Performs on-the-fly mosaic on a raster catalog." Name="Mosaic Function"/>
</Functions>
</RasterProperties>
</DataProperties>
<SyncDate>20230620</SyncDate>
<SyncTime>12083000</SyncTime>
<ModDate>20240717</ModDate>
<ModTime>14434600</ModTime>
<scaleRange>
<minScale>150000000</minScale>
<maxScale>5000</maxScale>
</scaleRange>
<ArcGISProfile>ItemDescription</ArcGISProfile>
</Esri>
<mdChar>
<CharSetCd value="004"/>
</mdChar>
<mdHrLv>
<ScopeCd value="005"/>
</mdHrLv>
<mdContact>
<rpIndName>VGIN Coordinator</rpIndName>
<rpOrgName>Virginia Information Technologies Agency</rpOrgName>
<rpCntInfo>
<cntPhone>
<voiceNum>Not Available</voiceNum>
</cntPhone>
<cntAddress addressType="postal">
<delPoint>411 E. Franklin St., Suite 500</delPoint>
<city>Richmond</city>
<adminArea>VA</adminArea>
<postCode>23219</postCode>
<eMailAdd>vbmp@vgin.virginia.gov</eMailAdd>
</cntAddress>
</rpCntInfo>
<role>
<RoleCd value="007"/>
</role>
</mdContact>
<mdDateSt Sync="TRUE">20240717</mdDateSt>
<mdStanName>ArcGIS Metadata</mdStanName>
<mdStanVer>1.0</mdStanVer>
<distInfo>
<distributor>
<distorCont>
<rpIndName>VGIN Coordinator</rpIndName>
<rpOrgName>Virginia Information Technologies Agency</rpOrgName>
<rpCntInfo>
<cntPhone>
<voiceNum>Not Available</voiceNum>
</cntPhone>
<cntAddress addressType="postal">
<delPoint>411 E. Franklin St. , Suite 500</delPoint>
<city>Richmond</city>
<adminArea>VA</adminArea>
<postCode>23219</postCode>
<country>US</country>
<eMailAdd>vbmp@vgin.virginia.gov</eMailAdd>
</cntAddress>
</rpCntInfo>
<role>
<RoleCd value="005"/>
</role>
</distorCont>
<distorOrdPrc>
<resFees>Contact VGIN at http://www.vgin.virginia.gov</resFees>
</distorOrdPrc>
<distorFormat>
<formatName>GeoTIFF 6.0</formatName>
<formatVer>6.0</formatVer>
<fileDecmTech>No compression applied</fileDecmTech>
</distorFormat>
<distorTran>
<transSize>71.565</transSize>
<onLineSrc>
<linkage>Not Available</linkage>
<orDesc>http://www.vgin.virginia.gov</orDesc>
</onLineSrc>
</distorTran>
</distributor>
<distTranOps>
<onLineSrc>
<linkage>http://www.vgin.virginia.gov</linkage>
</onLineSrc>
</distTranOps>
</distInfo>
<dataIdInfo>
<idCitation>
<resTitle>Imagery_2002</resTitle>
<date>
<pubDate>2003-03-01</pubDate>
</date>
<citRespParty>
<rpOrgName>Commonwealth of Virginia, through the Virginia Geographic Network Division of its Department of Technology Planning (VGIN).</rpOrgName>
<role>
<RoleCd value="006"/>
</role>
</citRespParty>
<citRespParty>
<rpOrgName>Commonwealth of Virginia, through the Virginia Geographic Network Division of its Department of Technology Planning (VGIN).</rpOrgName>
<rpCntInfo>
<cntAddress>
<delPoint>Richmond, Virginia</delPoint>
</cntAddress>
</rpCntInfo>
<role>
<RoleCd value="010"/>
</role>
</citRespParty>
<presForm>
<PresFormCd value="005"/>
</presForm>
<presForm>
<fgdcGeoform>Remote-sensing image</fgdcGeoform>
</presForm>
</idCitation>
<idAbs>&lt;DIV STYLE="text-align:Left;"&gt;&lt;DIV&gt;&lt;DIV&gt;&lt;P&gt;&lt;SPAN&gt;The orthoimagery in this image service was taken between 2/1/2002 to 5/1/2002. It was provided by the Commonwealth of Virginia, specifically through the Virginia Geographic Information Network Division (VGIN) to support the state's base mapping program. Imagery is displayed in natural color with the following band order: red (band 1); green (band 2); blue (band 3). The dataset's coordinate system is WGS 1984 Web Mercator (Auxiliary Sphere). A cache was built using the ArcGIS Online/Bing Maps/Google Maps tiling scheme containing 11 levels ranging from 1:288,895 to 1:282. Source image tile are in GeoTIFF format with a spatial resolution of 6-inches over the City of Harrisonburg.&lt;/SPAN&gt;&lt;/P&gt;&lt;P&gt;&lt;SPAN /&gt;&lt;/P&gt;&lt;P&gt;&lt;SPAN STYLE="font-weight:bold;"&gt;Metadata from imagery contractor:&lt;/SPAN&gt;&lt;/P&gt;&lt;P&gt;&lt;SPAN&gt;These files contain 0.5-foot GSD high-resolution orthorectified aerial image map products in GeoTIFF version 6.0 file format. GeoTIFF files are uncompressed raster images complete with coordinate information. The VBMP project encompasses the entire land area of the Commonwealth of Virginia. The State boundary is buffered by 1000 feet. Coastal areas of the State bordering the Atlantic Ocean or the Chesapeake Bay are buffered by 1000 feet or the extent of man-made features extending from shore. 1-foot resolution digital orthoimagery was developed over the majority of urban/suburban areas of the Commonwealth covering approximately 7,167 square miles and 2-foot resolution digital orthoimagery was developed over the rural areas of the Commonwealth covering approximately 31,923 square miles as defined by VGIN. 6-inch resolution digital orthoimagery was developed in limited urban areas covering approximately 1000 square miles.&lt;/SPAN&gt;&lt;/P&gt;&lt;/DIV&gt;&lt;/DIV&gt;&lt;/DIV&gt;</idAbs>
<idPurp>Natural color imagery for the City of Harrisonburg in Virginia. Dates of capture range from 2/1/2002 to 5/1/2002.</idPurp>
<idStatus>
<ProgCd value="001"/>
</idStatus>
<idPoC>
<rpIndName>VGIN Coordinator</rpIndName>
<rpOrgName>Virginia Information Technologies Agency</rpOrgName>
<rpCntInfo>
<cntPhone>
<voiceNum>not available</voiceNum>
</cntPhone>
<cntAddress addressType="postal">
<delPoint>411 E. Franklin St., Suite 500</delPoint>
<city>Richmond</city>
<adminArea>VA</adminArea>
<postCode>23219</postCode>
<country>US</country>
<eMailAdd>vbmp@vgin.virginia.gov</eMailAdd>
</cntAddress>
</rpCntInfo>
<role>
<RoleCd value="007"/>
</role>
</idPoC>
<resMaint>
<maintFreq>
<MaintFreqCd value="011"/>
</maintFreq>
</resMaint>
<graphOver>
<bgFileName>Not Available</bgFileName>
<bgFileDesc>Not Available</bgFileDesc>
<bgFileType>Not Available</bgFileType>
</graphOver>
<placeKeys>
<thesaName>
<resTitle>MEL Location Thesaurus</resTitle>
</thesaName>
<keyword>Commonwealth of Virginia</keyword>
<keyword>Virginia</keyword>
<keyword>USA</keyword>
</placeKeys>
<themeKeys>
<thesaName>
<resTitle>MEL Product Thesaurus</resTitle>
</thesaName>
<keyword>Digital Orthophotography</keyword>
<keyword>Land use or land cover</keyword>
<keyword>Emergency management</keyword>
<keyword>Miscellaneous</keyword>
<keyword>Planimetric</keyword>
<keyword>Economic development</keyword>
<keyword>Environment</keyword>
<keyword>Wetlands</keyword>
<keyword>Infrastructure or ground transportation</keyword>
<keyword>Tourism or recreation</keyword>
</themeKeys>
<themeKeys>
<thesaName>
<resTitle>ISO 19115 Topic Category</resTitle>
</thesaName>
<keyword>imageryBaseMapsEarthCover</keyword>
<keyword>Imagery and Base Maps</keyword>
</themeKeys>
<searchKeys>
<keyword>2002</keyword>
<keyword>base map</keyword>
<keyword>imagery</keyword>
</searchKeys>
<resConst>
<Consts>
<useLimit>&lt;DIV STYLE="text-align:Left;"&gt;&lt;DIV&gt;&lt;DIV&gt;&lt;P&gt;&lt;SPAN&gt;Every reasonable effort has been made to assure the accuracy of this dataset and associated maps. The City of Harrisonburg assumes no liability arising from use of these datasets or maps created using these datasets. THE DATASETS ARE PROVIDED WITHOUT WARRANTY OF ANY KIND, either expressed or implied, including, but not limited to, the implied warranties of merchantability and fitness for a particular purpose. Any errors or omissions should be reported to the GIS Administrator of the City of Harrisonburg, Department of Information Technology.&lt;/SPAN&gt;&lt;/P&gt;&lt;/DIV&gt;&lt;/DIV&gt;&lt;/DIV&gt;</useLimit>
</Consts>
</resConst>
<resConst>
<LegConsts>
<useLimit>The VBMP data are the property of the Commonwealth of Virginia, copyright 2002. Distribution of any of these data to anyone not licensed by the Commonwealth is strictly prohibited. VBMP license Agreement and distribution policies are available at http://www.vgin.state.va.us/VBMP/VBMP.html</useLimit>
</LegConsts>
</resConst>
<resConst>
<SecConsts>
<class>
<ClasscationCd value="001"/>
</class>
<classSys>Not Available</classSys>
<handDesc>Not Available</handDesc>
</SecConsts>
</resConst>
<spatRpType>
<SpatRepTypCd value="002"/>
</spatRpType>
<envirDesc>Microsoft Windows XP Version 5.1 (Build 2600) Service Pack 2; ESRI ArcCatalog 9.1.0.780</envirDesc>
<dataExt>
<geoEle>
<GeoBndBox>
<exTypeCode>true</exTypeCode>
<westBL>-78.921</westBL>
<eastBL>-78.824</eastBL>
<northBL>38.492</northBL>
<southBL>38.389</southBL>
</GeoBndBox>
</geoEle>
</dataExt>
<dataExt>
<exDesc>Ground condition</exDesc>
<tempEle>
<TempExtent>
<exTemp>
<TM_Period>
<tmBegin>2002-02-01</tmBegin>
<tmEnd>2002-04-01</tmEnd>
</TM_Period>
</exTemp>
</TempExtent>
</tempEle>
</dataExt>
<suppInfo>Digital Terrain Models were collected for the purposes of orthorectification as well as a variety of other purposes including planning and field reference.</suppInfo>
<dataLang>
<languageCode Sync="TRUE" value="eng"/>
<countryCode Sync="TRUE" value="USA"/>
</dataLang>
<dataExt>
<geoEle>
<GeoBndBox esriExtentType="search">
<exTypeCode Sync="TRUE">1</exTypeCode>
<westBL Sync="TRUE">-78.920484</westBL>
<eastBL Sync="TRUE">-78.824303</eastBL>
<northBL Sync="TRUE">38.492174</northBL>
<southBL Sync="TRUE">38.389024</southBL>
</GeoBndBox>
</geoEle>
</dataExt>
<idCredit>Commonwealth of Virginia, VGIN, City of Harrisonburg</idCredit>
<tpCat>
<TopicCatCd value="007"/>
</tpCat>
<tpCat>
<TopicCatCd value="010"/>
</tpCat>
</dataIdInfo>
<mdConst>
<SecConsts>
<class>
<ClasscationCd value="001"/>
</class>
<classSys>Not Available</classSys>
<handDesc>Not Available</handDesc>
</SecConsts>
</mdConst>
<dqInfo>
<dqScope>
<scpLvl>
<ScopeCd value="005"/>
</scpLvl>
</dqScope>
<report type="DQConcConsis">
<measDesc>The dataset contains raster images of digital orthophotography so the logical consistency report is not applicable. The file naming convention is based on the lower left/southwest corner of the image. Tile names are 14 characters long with a 3 character extension. An example tile name is: DO_N17_5100_11.TIF. The first two characters represent the product code (DO = digital orthophotograph, TM = terrain model). After an underscore to separate the code, the following three characters are the Prefix to maintain uniqueness in the project. The first character indicates the state plane zone (N = North, S = South), and the next two numbers indicate the coordinate pairing of the million units of the Easting and Northing coordinates for the lower left/southwest corner of the tile. An underscore separates the Prefix from the BMU (Base Modular Unit) of the next four numbers. The Base Modular Unit designates the name for 1:4800 scale imagery tiles which correspond to a 10,000 foot grid based on even 10,000 increments of the Virginia State Plane. Following another separator is a two number suffix. The first digit of the Suffix number designates the quadrant of the BMU that a nested 5,000 foot tile grid occupies. Quadrants are numbered from 1 to 4 starting with the Lower Left quadrant of the BMU, increasing in a clockwise direction. The second digit of the Suffix number designates the quadrant of the 5,000 foot tile that a nested 2,500-foot tile grid occupies. Quadrants are numbered from 1 to 4 starting with the Lower Left quadrant and increasing in a clockwise direction.</measDesc>
</report>
<report type="DQCompOm">
<measDesc>The project consisted of a total of 108 total images in the Virginia North State Plane Zone for 1' = 100' scale imagery.</measDesc>
</report>
<report dimension="horizontal" type="DQAbsExtPosAcc">
<measDesc>See http://www.vgin.state.va.us/VBMP/VBMP.html</measDesc>
<evalMethDesc>Compiled to meet 2.4 feet horizontal accuracy at 95% confidence level in accordance with National Standards for Spatial Data Accuracy (NSSDA). Tested accuracy will be reported in future versions of the metadata posted at http://www.vgin.state.va.us/VBMP/VBMP.html</evalMethDesc>
<measResult>
<QuanResult>
<quanVal>0.73</quanVal>
</QuanResult>
</measResult>
</report>
<report dimension="vertical" type="DQAbsExtPosAcc">
<measDesc>Not Available</measDesc>
<evalMethDesc>Not Available</evalMethDesc>
<measResult>
<QuanResult>
<quanVal>0</quanVal>
</QuanResult>
</measResult>
</report>
<dataLineage>
<prcStep>
<stepDesc>The Commonwealth is divided into three major production areas for this project. A different producer was assigned to each major area. The following is a general description of the process. For more specific information on each producer's methods and equipment by production block, go to the project procedures guide at the VGIN web site http://www.vgin.state.va.us/vbmp/vbmp.html. Aerial film was acquired and imaged in 2002. The imagery was scanned at 21 microns. Ground control used to support the ortho mapping was collected by identifying strategic locations on the aerial photography plan and then determining the coordinates by GPS ground survey techniques. The Aerial Triangulation was performed using softcopy workstations. Bundle adjustment was performed and Digital Elevation Models were created using standard photogrammetric collection techniques on soft copy workstations. A "DTM apron" was created around each elevated bridge for orthorectification purposes. The images were then ortho rectified and color balanced. Seamless mosaicing was performed and the seamless mosaic was clipped into tiles. Final deliverables in tiff format with tfw files were placed on DVD, DLT or FireWire.</stepDesc>
<stepDateTm>2002-01-01</stepDateTm>
</prcStep>
</dataLineage>
</dqInfo>
<spatRepInfo>
<Georect>
<numDims>3</numDims>
<axisDimension type="001">
<dimSize>5000</dimSize>
<dimResol>
<value Sync="TRUE" uom="m">0.152400</value>
</dimResol>
</axisDimension>
<axisDimension type="002">
<dimSize>5000</dimSize>
<dimResol>
<value Sync="TRUE" uom="m">0.152400</value>
</dimResol>
</axisDimension>
<axisDimension type="003">
<dimSize>1</dimSize>
</axisDimension>
<cellGeo>
<CellGeoCd Sync="TRUE" value="002"/>
</cellGeo>
<tranParaAv Sync="TRUE">1</tranParaAv>
<chkPtAv Sync="TRUE">0</chkPtAv>
<cornerPts>
<pos Sync="TRUE">-8785388.125300 4634528.579180</pos>
</cornerPts>
<cornerPts>
<pos Sync="TRUE">-8785388.125300 4649188.726500</pos>
</cornerPts>
<cornerPts>
<pos Sync="TRUE">-8774681.241886 4649188.726500</pos>
</cornerPts>
<cornerPts>
<pos Sync="TRUE">-8774681.241886 4634528.579180</pos>
</cornerPts>
<centerPt>
<pos Sync="TRUE">-8780034.683593 4641858.652840</pos>
</centerPt>
<ptInPixel>
<PixOrientCd Sync="TRUE" value="001"/>
</ptInPixel>
</Georect>
</spatRepInfo>
<eainfo>
<detailed>
<enttyp>
<enttypl>Band 1</enttypl>
<enttypd>Blue Band</enttypd>
<enttypds>Scanned from film</enttypds>
</enttyp>
</detailed>
<detailed>
<enttyp>
<enttypl>Band 2</enttypl>
<enttypd>Green Band</enttypd>
<enttypds>Scanned from film</enttypds>
</enttyp>
</detailed>
<detailed>
<enttyp>
<enttypl>Band 3</enttypl>
<enttypd>Red Band</enttypd>
<enttypds>Scanned from film</enttypds>
</enttyp>
</detailed>
</eainfo>
<mdLang>
<languageCode Sync="TRUE" value="eng"/>
<countryCode Sync="TRUE" value="USA"/>
</mdLang>
<refSysInfo>
<RefSystem>
<refSysID>
<identCode Sync="TRUE" code="3857"/>
<idCodeSpace Sync="TRUE">EPSG</idCodeSpace>
<idVersion Sync="TRUE">6.18.3(9.3.1.2)</idVersion>
</refSysID>
</RefSystem>
</refSysInfo>
<contInfo>
<ImgDesc>
<contentTyp>
<ContentTypCd Sync="TRUE" value="001"/>
</contentTyp>
<covDim>
<Band>
<dimDescrp Sync="TRUE">Red</dimDescrp>
<maxVal Sync="TRUE">255.000000</maxVal>
<minVal Sync="TRUE">0.000000</minVal>
<bitsPerVal Sync="TRUE">8</bitsPerVal>
<valUnit>
<UOM type="length"/>
</valUnit>
</Band>
<Band>
<dimDescrp Sync="TRUE">Green</dimDescrp>
<maxVal Sync="TRUE">255.000000</maxVal>
<minVal Sync="TRUE">0.000000</minVal>
<bitsPerVal Sync="TRUE">8</bitsPerVal>
<valUnit>
<UOM type="length"/>
</valUnit>
</Band>
<Band>
<dimDescrp Sync="TRUE">Blue</dimDescrp>
<maxVal Sync="TRUE">255.000000</maxVal>
<minVal Sync="TRUE">0.000000</minVal>
<bitsPerVal Sync="TRUE">8</bitsPerVal>
<valUnit>
<UOM type="length"/>
</valUnit>
</Band>
</covDim>
</ImgDesc>
</contInfo>
</metadata>
