{ "currentVersion": 11.3, "serviceDescription": "
The orthoimagery in this image service was taken between 2/1/2002 to 5/1/2002. It was provided by the Commonwealth of Virginia, specifically through the Virginia Geographic Information Network Division (VGIN) to support the state's base mapping program. Imagery is displayed in natural color with the following band order: red (band 1); green (band 2); blue (band 3). The dataset's coordinate system is WGS 1984 Web Mercator (Auxiliary Sphere). A cache was built using the ArcGIS Online/Bing Maps/Google Maps tiling scheme containing 11 levels ranging from 1:288,895 to 1:282. Source image tile are in GeoTIFF format with a spatial resolution of 6-inches over the City of Harrisonburg.<\/span><\/p> <\/p> Metadata from imagery contractor:<\/span><\/p> These files contain 0.5-foot GSD high-resolution orthorectified aerial image map products in GeoTIFF version 6.0 file format. GeoTIFF files are uncompressed raster images complete with coordinate information. The VBMP project encompasses the entire land area of the Commonwealth of Virginia. The State boundary is buffered by 1000 feet. Coastal areas of the State bordering the Atlantic Ocean or the Chesapeake Bay are buffered by 1000 feet or the extent of man-made features extending from shore. 1-foot resolution digital orthoimagery was developed over the majority of urban/suburban areas of the Commonwealth covering approximately 7,167 square miles and 2-foot resolution digital orthoimagery was developed over the rural areas of the Commonwealth covering approximately 31,923 square miles as defined by VGIN. 6-inch resolution digital orthoimagery was developed in limited urban areas covering approximately 1000 square miles.<\/span><\/p><\/div><\/div><\/div>",
"name": "Imagery/Imagery_2002",
"description": " The orthoimagery in this image service was taken between 2/1/2002 to 5/1/2002. It was provided by the Commonwealth of Virginia, specifically through the Virginia Geographic Information Network Division (VGIN) to support the state's base mapping program. Imagery is displayed in natural color with the following band order: red (band 1); green (band 2); blue (band 3). The dataset's coordinate system is WGS 1984 Web Mercator (Auxiliary Sphere). A cache was built using the ArcGIS Online/Bing Maps/Google Maps tiling scheme containing 11 levels ranging from 1:288,895 to 1:282. Source image tile are in GeoTIFF format with a spatial resolution of 6-inches over the City of Harrisonburg.<\/span><\/p> <\/p> Metadata from imagery contractor:<\/span><\/p> These files contain 0.5-foot GSD high-resolution orthorectified aerial image map products in GeoTIFF version 6.0 file format. GeoTIFF files are uncompressed raster images complete with coordinate information. The VBMP project encompasses the entire land area of the Commonwealth of Virginia. The State boundary is buffered by 1000 feet. Coastal areas of the State bordering the Atlantic Ocean or the Chesapeake Bay are buffered by 1000 feet or the extent of man-made features extending from shore. 1-foot resolution digital orthoimagery was developed over the majority of urban/suburban areas of the Commonwealth covering approximately 7,167 square miles and 2-foot resolution digital orthoimagery was developed over the rural areas of the Commonwealth covering approximately 31,923 square miles as defined by VGIN. 6-inch resolution digital orthoimagery was developed in limited urban areas covering approximately 1000 square miles.<\/span><\/p><\/div><\/div><\/div>",
"extent": {
"xmin": -8785388.1253,
"ymin": 4634528.579179702,
"xmax": -8774681.241886232,
"ymax": 4649188.726499997,
"spatialReference": {
"wkid": 102100,
"latestWkid": 3857
}
},
"initialExtent": {
"xmin": -8785388.1253,
"ymin": 4634528.579179702,
"xmax": -8774681.241886232,
"ymax": 4649188.726499997,
"spatialReference": {
"wkid": 102100,
"latestWkid": 3857
}
},
"fullExtent": {
"xmin": -8785388.1253,
"ymin": 4634528.579179702,
"xmax": -8774681.241886232,
"ymax": 4649188.726499997,
"spatialReference": {
"wkid": 102100,
"latestWkid": 3857
}
},
"sortableFields": "MinPS,MaxPS,LowPS,HighPS,CenterX,CenterY,ZOrder,Shape_Length,Shape_Area",
"bandCount": 3,
"pixelType": "U8",
"minValues": [
0,
0,
0
],
"maxValues": [
255,
255,
255
],
"meanValues": [
153.42707099999845,
146.6725789999962,
126.14328699999662
],
"stdvValues": [
42.724199287033514,
43.785561931582464,
42.29753901727234
],
"hasMultidimensions": false,
"pixelSizeX": 0.15240030480061834,
"pixelSizeY": 0.15240030480061076,
"meanPixelSize": 0.15240030480061456,
"datasetFormat": "AMD",
"uncompressedSize": 20274539175,
"blockWidth": 2048,
"blockHeight": 256,
"compressionType": "None",
"bandNames": [
"Red",
"Green",
"Blue"
],
"allowCopy": true,
"allowAnalysis": true,
"itemAccess": false,
"inspectionCapabilities": "",
"minPixelSize": 0,
"maxPixelSize": 76.43702828507317,
"copyrightText": "Commonwealth of Virginia, VGIN, City of Harrisonburg",
"serviceDataType": "esriImageServiceDataTypeRGB",
"serviceSourceType": "esriImageServiceSourceTypeMosaicDataset",
"objectIdField": "OBJECTID",
"fields": [
{
"name": "OBJECTID",
"type": "esriFieldTypeOID",
"alias": "OBJECTID",
"domain": null
},
{
"name": "Shape",
"type": "esriFieldTypeGeometry",
"alias": "Shape",
"domain": null
},
{
"name": "Name",
"type": "esriFieldTypeString",
"alias": "Name",
"domain": null,
"length": 200
},
{
"name": "MinPS",
"type": "esriFieldTypeDouble",
"alias": "MinPS",
"domain": null
},
{
"name": "MaxPS",
"type": "esriFieldTypeDouble",
"alias": "MaxPS",
"domain": null
},
{
"name": "LowPS",
"type": "esriFieldTypeDouble",
"alias": "LowPS",
"domain": null
},
{
"name": "HighPS",
"type": "esriFieldTypeDouble",
"alias": "HighPS",
"domain": null
},
{
"name": "Category",
"type": "esriFieldTypeInteger",
"alias": "Category",
"domain": {
"type": "codedValue",
"name": "MosaicCatalogItemCategoryDomain",
"description": "Catalog item categories.",
"codedValues": [
{
"name": "Unknown",
"code": 0
},
{
"name": "Primary",
"code": 1
},
{
"name": "Overview",
"code": 2
},
{
"name": "Unprocessed Overview",
"code": 3
},
{
"name": "Partial Overview",
"code": 4
},
{
"name": "Inactive",
"code": 5
},
{
"name": "Uploaded",
"code": 253
},
{
"name": "Incomplete",
"code": 254
},
{
"name": "Custom",
"code": 255
}
],
"mergePolicy": "esriMPTDefaultValue",
"splitPolicy": "esriSPTDefaultValue"
}
},
{
"name": "Tag",
"type": "esriFieldTypeString",
"alias": "Tag",
"domain": null,
"length": 100
},
{
"name": "GroupName",
"type": "esriFieldTypeString",
"alias": "GroupName",
"domain": null,
"length": 100
},
{
"name": "ProductName",
"type": "esriFieldTypeString",
"alias": "ProductName",
"domain": null,
"length": 100
},
{
"name": "CenterX",
"type": "esriFieldTypeDouble",
"alias": "CenterX",
"domain": null
},
{
"name": "CenterY",
"type": "esriFieldTypeDouble",
"alias": "CenterY",
"domain": null
},
{
"name": "ZOrder",
"type": "esriFieldTypeInteger",
"alias": "ZOrder",
"domain": null
},
{
"name": "Shape_Length",
"type": "esriFieldTypeDouble",
"alias": "Shape_Length",
"domain": null
},
{
"name": "Shape_Area",
"type": "esriFieldTypeDouble",
"alias": "Shape_Area",
"domain": null
}
],
"capabilities": "Catalog,Image,Metadata",
"defaultMosaicMethod": "Northwest",
"allowedMosaicMethods": "NorthWest,Center,LockRaster,ByAttribute,Nadir,Viewpoint,Seamline,None",
"sortField": "",
"sortValue": null,
"sortAscending": true,
"mosaicOperator": "First",
"maxDownloadSizeLimit": 2048,
"defaultCompressionQuality": 75,
"defaultResamplingMethod": "Bilinear",
"maxImageHeight": 4100,
"maxImageWidth": 15000,
"maxRecordCount": 1000,
"maxDownloadImageCount": 20,
"maxMosaicImageCount": 50,
"singleFusedMapCache": true,
"tileInfo": {
"rows": 256,
"cols": 256,
"dpi": 96,
"format": "MIXED",
"compressionQuality": 80,
"origin": {
"x": -2.0037508342787E7,
"y": 2.0037508342787E7
},
"spatialReference": {
"wkid": 102100,
"latestWkid": 3857
},
"lods": [
{
"level": 0,
"resolution": 156543.033928,
"scale": 5.91657527591555E8
},
{
"level": 1,
"resolution": 78271.5169639999,
"scale": 2.95828763795777E8
},
{
"level": 2,
"resolution": 39135.7584820001,
"scale": 1.47914381897889E8
},
{
"level": 3,
"resolution": 19567.8792409999,
"scale": 7.3957190948944E7
},
{
"level": 4,
"resolution": 9783.93962049996,
"scale": 3.6978595474472E7
},
{
"level": 5,
"resolution": 4891.96981024998,
"scale": 1.8489297737236E7
},
{
"level": 6,
"resolution": 2445.98490512499,
"scale": 9244648.868618
},
{
"level": 7,
"resolution": 1222.99245256249,
"scale": 4622324.434309
},
{
"level": 8,
"resolution": 611.49622628138,
"scale": 2311162.217155
},
{
"level": 9,
"resolution": 305.748113140558,
"scale": 1155581.108577
},
{
"level": 10,
"resolution": 152.874056570411,
"scale": 577790.554289
},
{
"level": 11,
"resolution": 76.4370282850732,
"scale": 288895.277144
},
{
"level": 12,
"resolution": 38.2185141425366,
"scale": 144447.638572
},
{
"level": 13,
"resolution": 19.1092570712683,
"scale": 72223.819286
},
{
"level": 14,
"resolution": 9.55462853563415,
"scale": 36111.909643
},
{
"level": 15,
"resolution": 4.77731426794937,
"scale": 18055.954822
},
{
"level": 16,
"resolution": 2.38865713397468,
"scale": 9027.977411
},
{
"level": 17,
"resolution": 1.19432856685505,
"scale": 4513.988705
},
{
"level": 18,
"resolution": 0.597164283559817,
"scale": 2256.994353
},
{
"level": 19,
"resolution": 0.298582141647617,
"scale": 1128.497176
},
{
"level": 20,
"resolution": 0.14929107082380833,
"scale": 564.248588
},
{
"level": 21,
"resolution": 0.07464553541190416,
"scale": 282.124294
},
{
"level": 22,
"resolution": 0.03732276770595208,
"scale": 141.062147
},
{
"level": 23,
"resolution": 0.01866138385297604,
"scale": 70.5310735
}
]
},
"storageInfo": {
"storageFormat": "esriMapCacheStorageModeCompactV2",
"packetSize": 128
},
"cacheType": "Map",
"allowRasterFunction": true,
"rasterFunctionInfos": [
{
"name": "2002 Imagery Raster Function Template new",
"description": "A raster function template for 2002_Imagery",
"help": ""
},
{
"name": "None",
"description": "Make a Raster or Raster Dataset into a Function Raster Dataset.",
"help": ""
}
],
"rasterTypeInfos": [
{
"name": "Raster Dataset",
"description": "Supports all ArcGIS Raster Datasets",
"help": ""
}
],
"mensurationCapabilities": "None",
"hasHistograms": true,
"hasColormap": false,
"hasRasterAttributeTable": false,
"minScale": 288895.277144,
"maxScale": 0,
"exportTilesAllowed": false,
"supportsStatistics": true,
"supportsAdvancedQueries": true,
"editFieldsInfo": null,
"ownershipBasedAccessControlForRasters": null,
"allowComputeTiePoints": false,
"useStandardizedQueries": true,
"advancedQueryCapabilities": {
"useStandardizedQueries": true,
"supportsStatistics": true,
"supportsOrderBy": true,
"supportsDistinct": true,
"supportsPagination": true
},
"spatialReference": {
"wkid": 102100,
"latestWkid": 3857
},
"resampling": true
}