{
 "currentVersion": 11.3,
 "cimVersion": "3.3.0",
 "serviceDescription": " The orthoimagery in this image service was taken between 2/1/2022 to 4/2/2022. It was provided by the Commonwealth of Virginia, specifically through the Virginia Geographic Information Network Division (VGIN) to support the state's base mapping program. Imagery is displayed in natural color with the following band order: red (band 1); green (band 2); blue (band 3). The dataset's coordinate system is NAD 1983 State Plane Virginia North FIPS 4501 Feet (WKID 2283). A cache was built containing 10 levels ranging from 1:500,000 to 1:488 from source image tiles (GeoTIFFs). The spatial resolution is 3-inches over the City of Harrisonburg and 12-inches for Rockingham County.<\/SPAN><\/P><\/DIV><\/DIV><\/DIV>",
 "mapName": "Imagery_2022_MapService",
 "description": "The orthoimagery in this image service was taken between 2/1/2022 to 4/2/2022. It was provided by the Commonwealth of Virginia, specifically through the Virginia Geographic Information Network Division (VGIN) to support the state's base mapping program. Imagery is displayed in natural color with the following band order: red (band 1); green (band 2); blue (band 3). The dataset's coordinate system is NAD 1983 State Plane Virginia North FIPS 4501 Feet (WKID 2283). A cache was built containing 10 levels ranging from 1:500,000 to 1:488 from source image tiles (GeoTIFFs). The spatial resolution is 3-inches over the City of Harrisonburg and 12-inches for Rockingham County.",
 "copyrightText": "Commonwealth of Virginia, VGIN, City of Harrisonburg",
 "supportsDynamicLayers": true,
 "layers": [
  {
   "id": 0,
   "name": "Imagery2022_2283",
   "parentLayerId": -1,
   "defaultVisibility": true,
   "subLayerIds": [
    1,
    2,
    3
   ],
   "minScale": 0,
   "maxScale": 0,
   "type": "Mosaic Layer",
   "supportsDynamicLegends": false
  },
  {
   "id": 1,
   "name": "Boundary",
   "parentLayerId": 0,
   "defaultVisibility": false,
   "subLayerIds": null,
   "minScale": 0,
   "maxScale": 0,
   "type": "Feature Layer",
   "geometryType": "esriGeometryPolygon",
   "supportsDynamicLegends": true
  },
  {
   "id": 2,
   "name": "Footprint",
   "parentLayerId": 0,
   "defaultVisibility": false,
   "subLayerIds": null,
   "minScale": 0,
   "maxScale": 0,
   "type": "Feature Layer",
   "geometryType": "esriGeometryPolygon",
   "supportsDynamicLegends": true
  },
  {
   "id": 3,
   "name": "Image",
   "parentLayerId": 0,
   "defaultVisibility": true,
   "subLayerIds": null,
   "minScale": 0,
   "maxScale": 0,
   "type": "Raster Layer",
   "supportsDynamicLegends": true
  }
 ],
 "tables": [],
 "spatialReference": {
  "wkid": 102746,
  "latestWkid": 2283,
  "xyTolerance": 0.003280833333333333,
  "zTolerance": 0.001,
  "mTolerance": 0.001,
  "falseX": -110512500,
  "falseY": -88858000,
  "xyUnits": 3048.0060960121928,
  "falseZ": -100000,
  "zUnits": 10000,
  "falseM": -100000,
  "mUnits": 10000
 },
 "singleFusedMapCache": true,
 "tileInfo": {
  "rows": 256,
  "cols": 256,
  "dpi": 96,
  "format": "MIXED",
  "compressionQuality": 75,
  "origin": {
   "x": -110512500,
   "y": 155132800
  },
  "spatialReference": {
   "wkid": 102746,
   "latestWkid": 2283,
   "xyTolerance": 0.003280833333333333,
   "zTolerance": 0.001,
   "mTolerance": 0.001,
   "falseX": -110512500,
   "falseY": -88858000,
   "xyUnits": 3048.0060960121928,
   "falseZ": -100000,
   "zUnits": 10000,
   "falseM": -100000,
   "mUnits": 10000
  },
  "lods": [
   {
    "level": 0,
    "resolution": 434.02777777777777,
    "scale": 500000
   },
   {
    "level": 1,
    "resolution": 217.01388888888889,
    "scale": 250000
   },
   {
    "level": 2,
    "resolution": 108.50694444444444,
    "scale": 125000
   },
   {
    "level": 3,
    "resolution": 54.25347222222222,
    "scale": 62500
   },
   {
    "level": 4,
    "resolution": 27.12673611111111,
    "scale": 31250
   },
   {
    "level": 5,
    "resolution": 13.563368055555555,
    "scale": 15625
   },
   {
    "level": 6,
    "resolution": 6.781684027777778,
    "scale": 7812.5
   },
   {
    "level": 7,
    "resolution": 3.390842013888889,
    "scale": 3906.25
   },
   {
    "level": 8,
    "resolution": 1.6954210069444444,
    "scale": 1953.125
   },
   {
    "level": 9,
    "resolution": 0.8477105034722222,
    "scale": 976.5625
   },
   {
    "level": 10,
    "resolution": 0.4238552517361111,
    "scale": 488.28125
   }
  ]
 },
 "storageInfo": {
  "storageFormat": "esriMapCacheStorageModeCompactV2",
  "packetSize": 128
 },
 "initialExtent": {
  "xmin": 1.1378187735819109E7,
  "ymin": 6845564.462504138,
  "xmax": 1.1385457701096885E7,
  "ymax": 6851193.260247194,
  "spatialReference": {
   "wkid": 102746,
   "latestWkid": 2283,
   "xyTolerance": 0.003280833333333333,
   "zTolerance": 0.001,
   "mTolerance": 0.001,
   "falseX": -110512500,
   "falseY": -88858000,
   "xyUnits": 3048.0060960121928,
   "falseZ": -100000,
   "zUnits": 10000,
   "falseM": -100000,
   "mUnits": 10000
  }
 },
 "fullExtent": {
  "xmin": 1.127000082197839E7,
  "ymin": 6754997.189462066,
  "xmax": 1.149000082197839E7,
  "ymax": 6999997.189462066,
  "spatialReference": {
   "wkid": 102746,
   "latestWkid": 2283,
   "xyTolerance": 0.003280833333333333,
   "zTolerance": 0.001,
   "mTolerance": 0.001,
   "falseX": -110512500,
   "falseY": -88858000,
   "xyUnits": 3048.0060960121928,
   "falseZ": -100000,
   "zUnits": 10000,
   "falseM": -100000,
   "mUnits": 10000
  }
 },
 "datesInUnknownTimezone": false,
 "minScale": 500000,
 "maxScale": 0,
 "units": "esriFeet",
 "supportedImageFormatTypes": "PNG32,PNG24,PNG,JPG,DIB,TIFF,EMF,PS,PDF,GIF,SVG,SVGZ,BMP",
 "documentInfo": {
  "Title": "Imagery_2022",
  "Author": "",
  "Comments": "The orthoimagery in this image service was taken between 2/1/2022 to 4/2/2022. It was provided by the Commonwealth of Virginia, specifically through the Virginia Geographic Information Network Division (VGIN) to support the state's base mapping program. Imagery is displayed in natural color with the following band order: red (band 1); green (band 2); blue (band 3). The dataset's coordinate system is NAD 1983 State Plane Virginia North FIPS 4501 Feet (WKID 2283). A cache was built containing 10 levels ranging from 1:500,000 to 1:488 from source image tiles (GeoTIFFs). The spatial resolution is 3-inches over the City of Harrisonburg and 12-inches for Rockingham County.",
  "Subject": "Map service showing 2022 imagery for Rockingham County and the City of Harrisonburg. Spatial Reference is WKID 2283.",
  "Category": "",
  "Version": "2.9.0",
  "AntialiasingMode": "Fast",
  "TextAntialiasingMode": "Force",
  "Keywords": "imagery,map service,2022"
 },
 "supportsQueryDomains": true,
 "capabilities": "Map,Query,Data",
 "supportedQueryFormats": "JSON, geoJSON, PBF",
 "exportTilesAllowed": false,
 "referenceScale": 0.0,
 "datumTransformations": [
  {
   "geoTransforms": [
    {
     "wkid": 108190,
     "latestWkid": 108190,
     "transformForward": true,
     "name": "WGS_1984_(ITRF00)_To_NAD_1983"
    }
   ]
  },
  {
   "geoTransforms": [
    {
     "wkid": 108190,
     "latestWkid": 108190,
     "transformForward": false,
     "name": "WGS_1984_(ITRF00)_To_NAD_1983"
    }
   ]
  },
  {
   "geoTransforms": [
    {
     "wkid": 1485,
     "latestWkid": 1485,
     "transformForward": false,
     "name": "NAD_1983_To_HARN_MD_DE"
    }
   ]
  },
  {
   "geoTransforms": [
    {
     "wkid": 1485,
     "latestWkid": 1485,
     "transformForward": true,
     "name": "NAD_1983_To_HARN_MD_DE"
    }
   ]
  },
  {
   "geoTransforms": [
    {
     "wkid": 1485,
     "latestWkid": 1485,
     "transformForward": false,
     "name": "NAD_1983_To_HARN_MD_DE"
    }
   ]
  },
  {
   "geoTransforms": [
    {
     "wkid": 1485,
     "latestWkid": 1485,
     "transformForward": true,
     "name": "NAD_1983_To_HARN_MD_DE"
    }
   ]
  },
  {
   "geoTransforms": [
    {
     "wkid": 1485,
     "latestWkid": 1485,
     "transformForward": false,
     "name": "NAD_1983_To_HARN_MD_DE"
    }
   ]
  },
  {
   "geoTransforms": [
    {
     "wkid": 1485,
     "latestWkid": 1485,
     "transformForward": true,
     "name": "NAD_1983_To_HARN_MD_DE"
    }
   ]
  }
 ],
 "supportsDatumTransformation": true,
 "archivingInfo": {
  "supportsHistoricMoment": false
 },
 "supportsClipping": true,
 "supportsSpatialFilter": true,
 "supportsTimeRelation": true,
 "supportsQueryDataElements": true,
 "mapUnits": {
  "uwkid": 9003
 },
 "maxRecordCount": 2000,
 "maxImageHeight": 4096,
 "maxImageWidth": 4096,
 "supportedExtensions": "",
 "resampling": true,
 "serviceItemId": "4b611dcd6c1c4c50aae694e5862e2384"
}
