View In:
ArcGIS JavaScript
ArcGIS Online Map Viewer
ArcGIS Earth
Service Description: The orthoimagery in this image service was taken between 2/1/2006 to 5/1/2006. It was provided by the Commonwealth of Virginia, specifically through the Virginia Geographic Information Network Division (VGIN) to support the state's base mapping program. Imagery is displayed in natural color with the following band order: red (band 1); green (band 2); blue (band 3). The dataset's coordinate system is WGS 1984 Web Mercator (Auxiliary Sphere). A cache was built using the ArcGIS Online/Bing Maps/Google Maps tiling scheme containing 11 levels ranging from 1:288,895 to 1:282. Source image tiles are in GeoTIFF format with a spatial resolution is 6-inches over the City of Harrisonburg.
Name: Imagery/Imagery_2006
Description: The orthoimagery in this image service was taken between 2/1/2006 to 5/1/2006. It was provided by the Commonwealth of Virginia, specifically through the Virginia Geographic Information Network Division (VGIN) to support the state's base mapping program. Imagery is displayed in natural color with the following band order: red (band 1); green (band 2); blue (band 3). The dataset's coordinate system is WGS 1984 Web Mercator (Auxiliary Sphere). A cache was built using the ArcGIS Online/Bing Maps/Google Maps tiling scheme containing 11 levels ranging from 1:288,895 to 1:282. Source image tiles are in GeoTIFF format with a spatial resolution is 6-inches over the City of Harrisonburg.
Single Fused Map Cache: true
Tile Info:
- Height: 256
- Width: 256
- DPI: 96
-
Levels of Detail: 24
-
Level ID: 1
[ Start Tile, End Tile ]
- Resolution: 78271.5169639999
- Scale: 2.95828763795777E8
-
Level ID: 2
[ Start Tile, End Tile ]
- Resolution: 39135.7584820001
- Scale: 1.47914381897889E8
-
Level ID: 3
[ Start Tile, End Tile ]
- Resolution: 19567.8792409999
- Scale: 7.3957190948944E7
-
Level ID: 4
[ Start Tile, End Tile ]
- Resolution: 9783.93962049996
- Scale: 3.6978595474472E7
-
Level ID: 5
[ Start Tile, End Tile ]
- Resolution: 4891.96981024998
- Scale: 1.8489297737236E7
- Format: MIXED
- Compression Quality: 80.0
- LERC Error: NaN
- Origin: X: -2.0037508342787E7
Y: 2.0037508342787E7
- Spatial Reference: 102100
(3857)
LatestVCSWkid(0)
Storage Info:
- Storage Format: esriMapCacheStorageModeCompactV2
- Packet Size: 128
Extent:
XMin: -8785388.4425
YMin: 4634529.665079704
XMax: -8774681.559086233
YMax: 4649189.812399998
Spatial Reference: 102100
(3857)
LatestVCSWkid(0)
Initial Extent:
XMin: -8785388.4425
YMin: 4634529.665079704
XMax: -8774681.559086233
YMax: 4649189.812399998
Spatial Reference: 102100
(3857)
LatestVCSWkid(0)
Full Extent:
XMin: -8785388.4425
YMin: 4634529.665079704
XMax: -8774681.559086233
YMax: 4649189.812399998
Spatial Reference: 102100
(3857)
LatestVCSWkid(0)
Pixel Size X: 0.15240030480061834
Pixel Size Y: 0.15240030480061076
Band Count: 3
Pixel Type: U8
RasterFunction Infos: {"rasterFunctionInfos": [
{
"name": "2006 Raster Function Template",
"description": "A raster function template for Imagery_2006.",
"help": ""
},
{
"name": "None",
"description": "Make a Raster or Raster Dataset into a Function Raster Dataset.",
"help": ""
}
]}
Mensuration Capabilities: None
Inspection Capabilities:
Has Histograms: true
Has Colormap: false
Has Multi Dimensions : false
Rendering Rule:
Min Scale: 288895.277144
Max Scale: 0
Resampling: true
Copyright Text: Commonwealth of Virginia, City of Harrisonburg, VGIN
Service Data Type: esriImageServiceDataTypeRGB
Min Values: 1, 1, 1
Max Values: 255, 255, 255
Mean Values: 130.1596221925611, 130.10656209311477, 114.91678722784471
Standard Deviation Values: 28.569398779625054, 26.16337360640711, 23.14684200100325
Object ID Field: OBJECTID
Fields:
-
OBJECTID
(
type: esriFieldTypeOID, alias: OBJECTID
)
-
Shape
(
type: esriFieldTypeGeometry, alias: Shape
)
-
Name
(
type: esriFieldTypeString, alias: Name, length: 200
)
-
MinPS
(
type: esriFieldTypeDouble, alias: MinPS
)
-
MaxPS
(
type: esriFieldTypeDouble, alias: MaxPS
)
-
LowPS
(
type: esriFieldTypeDouble, alias: LowPS
)
-
HighPS
(
type: esriFieldTypeDouble, alias: HighPS
)
-
Category
(
type: esriFieldTypeInteger, alias: Category
, Coded Values:
[0: Unknown]
, [1: Primary]
, [2: Overview]
, ...6 more...
)
-
Tag
(
type: esriFieldTypeString, alias: Tag, length: 100
)
-
GroupName
(
type: esriFieldTypeString, alias: GroupName, length: 100
)
-
ProductName
(
type: esriFieldTypeString, alias: ProductName, length: 100
)
-
CenterX
(
type: esriFieldTypeDouble, alias: CenterX
)
-
CenterY
(
type: esriFieldTypeDouble, alias: CenterY
)
-
ZOrder
(
type: esriFieldTypeInteger, alias: ZOrder
)
-
Shape_Length
(
type: esriFieldTypeDouble, alias: Shape_Length
)
-
Shape_Area
(
type: esriFieldTypeDouble, alias: Shape_Area
)
Default Mosaic Method: Northwest
Allowed Mosaic Methods: NorthWest,Center,LockRaster,ByAttribute,Nadir,Viewpoint,Seamline,None
SortField:
SortValue: null
Mosaic Operator: First
Default Compression Quality: 75
Default Resampling Method: Bilinear
Max Record Count: 1000
Max Image Height: 4100
Max Image Width: 15000
Max Download Image Count: 20
Max Mosaic Image Count: 50
Allow Raster Function: true
Allow Copy: true
Allow Analysis: true
Allow Compute TiePoints: false
Supports Statistics: true
Supports Advanced Queries: true
Use StandardizedQueries: true
Raster Type Infos:
Name: Raster Dataset
Description: Supports all ArcGIS Raster Datasets
Help:
Has Raster Attribute Table: false
Edit Fields Info: null
Ownership Based AccessControl For Rasters: null
Child Resources:
Info
Histograms
Statistics
Key Properties
Legend
Raster Function Infos
Supported Operations:
Export Image
Query
Identify
Compute Histograms
Compute Statistics Histograms
Get Samples
Compute Class Statistics
Query GPS Info
Find Images
Image to Map
Map to Image
Measure from Image
Image to Map Multiray
Query Boundary
Compute Pixel Location
Compute Angles
Validate
Project