View In:
ArcGIS JavaScript
ArcGIS Online Map Viewer
ArcGIS Earth
ArcGIS Pro
Service Description: <DIV STYLE="text-align:Left;"><DIV><DIV><P><SPAN>The National Agriculture Imagery Program (NAIP) acquired this imagery between 6/20/2016 to 8/29/2016. NAIP is administered through the USDA's Farm Production and Conservation Business Center Geospatial Enterprise Operations Branch. Data is made available to the public through the U.S. Geological Survey.</SPAN></P><P><SPAN>Imagery is displayed in natural color with the following band order: red (band 1); green (band 2); blue (band 3). The map service coordinate system is WGS 1984 Web Mercator (Auxiliary Sphere); WKID 3857. A cache was built containing 9 levels ranging from 1:577,791 to 1:2,257 (L10 to L18). It was created from full resolution GeoTIFFs. The imagery's spatial resolution is 1 meter (3.28 feet).</SPAN></P><P><SPAN STYLE="font-size:14pt">Want to learn more?</SPAN></P><P><A href="https://www.usgs.gov/centers/eros/science/usgs-eros-archive-aerial-photography-national-agriculture-imagery-program-naip" STYLE="text-decoration:underline;"><SPAN STYLE="font-size:14pt">USGS NAIP</SPAN></A></P></DIV></DIV></DIV>
Map Name: Imagery_2016_NAIP Natural Color
Legend
All Layers and Tables
Dynamic Legend
Dynamic All Layers
Layers:
Description: The National Agriculture Imagery Program (NAIP) acquired this imagery between 6/20/2016 to 8/29/2016. NAIP is administered through the USDA's Farm Production and Conservation Business Center Geospatial Enterprise Operations Branch. Data is made available to the public through the U.S. Geological Survey.Imagery is displayed in natural color with the following band order: red (band 1); green (band 2); blue (band 3). The map service coordinate system is WGS 1984 Web Mercator (Auxiliary Sphere); WKID 3857. A cache was built containing 9 levels ranging from 1:577,791 to 1:2,257 (L10 to L18). It was created from full resolution GeoTIFFs. The imagery's spatial resolution is 1 meter (3.28 feet).Want to learn more?USGS NAIP
Service Item Id: 6c79ac8e64d348dd9037d1f38d1799fc
Copyright Text: U.S. Geological Survey, USDA-FPAC-BC, NAIP, City of Harrisonburg
Spatial Reference:
102100
(3857)
LatestVCSWkid(0)
Single Fused Map Cache: true
Tile Info:
- Height: 256.0
- Width: 256.0
- DPI: 96.0
-
Levels of Detail: 24
-
Level ID: 1
[ Start Tile, End Tile ]
- Resolution: 78271.5169639999
- Scale: 2.95828763795777E8
-
Level ID: 2
[ Start Tile, End Tile ]
- Resolution: 39135.7584820001
- Scale: 1.47914381897889E8
-
Level ID: 3
[ Start Tile, End Tile ]
- Resolution: 19567.8792409999
- Scale: 7.3957190948944E7
-
Level ID: 4
[ Start Tile, End Tile ]
- Resolution: 9783.93962049996
- Scale: 3.6978595474472E7
-
Level ID: 5
[ Start Tile, End Tile ]
- Resolution: 4891.96981024998
- Scale: 1.8489297737236E7
- Format: Mixed
- Compression Quality: 90.0
- Origin: X: -2.0037508342787E7
Y: 2.0037508342787E7
- Spatial Reference: 102100
(3857)
LatestVCSWkid(0)
Storage Info:
- Storage Format: esriMapCacheStorageModeCompactV2
- Packet Size: 128
Initial Extent:
XMin: -8882117.486144748
YMin: 4566595.932865069
XMax: -8684328.340817858
YMax: 4730149.925375787
Spatial Reference: 102100
(0)
LatestVCSWkid(0)
Full Extent:
XMin: -8823147.33293267
YMin: 4605058.751641301
XMax: -8730879.042441538
YMax: 4704524.368887464
Spatial Reference: 102100
(0)
LatestVCSWkid(0)
Units: esriMeters
Supported Image Format Types: PNG32,PNG24,PNG,JPG,DIB,TIFF,EMF,PS,PDF,GIF,SVG,SVGZ,BMP
Document Info:
Title: Imagery_2016_NAIP Natural Color
Author:
Comments: The National Agriculture Imagery Program (NAIP) acquired this imagery between 6/20/2016 to 8/29/2016. NAIP is administered through the USDA's Farm Production and Conservation Business Center Geospatial Enterprise Operations Branch. Data is made available to the public through the U.S. Geological Survey.Imagery is displayed in natural color with the following band order: red (band 1); green (band 2); blue (band 3). The map service coordinate system is WGS 1984 Web Mercator (Auxiliary Sphere); WKID 3857. A cache was built containing 9 levels ranging from 1:577,791 to 1:2,257 (L10 to L18). It was created from full resolution GeoTIFFs. The imagery's spatial resolution is 1 meter (3.28 feet).Want to learn more?USGS NAIP
Subject: Natural color NAIP imagery for Rockingham County and the City of Harrisonburg. Dates of capture range from 6/20/2016 to 8/29/2016.
Category:
Keywords: imagery,naip,2016
AntialiasingMode: Fast
TextAntialiasingMode: Force
Supports Dynamic Layers: true
Resampling: true
MaxRecordCount: 2000
MaxImageHeight: 4096
MaxImageWidth: 4096
Supported Query Formats: JSON, geoJSON, PBF
Supports Query Data Elements: true
Min Scale: 577790.554289
Max Scale: 0
Min LOD: 10
Max LOD: 18
Supports Datum Transformation: true
Child Resources:
Info
Dynamic Layer
Supported Operations:
Export Map
Identify
QueryLegends
QueryDomains
Find
Return Updates