View In:
ArcGIS JavaScript
ArcGIS Online Map Viewer
ArcGIS Earth
ArcGIS Pro
Service Description: <div style='text-align:Left;'><div><div><p><span>Drone imagery from 2025 taken in the City of Harrisonburg. Spatial Reference is WKID 3857. A cache was built using the ArcGIS Online/Bing Maps/Google Maps tiling scheme containing 10 levels ranging from 1:36,112 to 1:70 (L14 to L23).</span></p></div></div></div>
Map Name: Imagery_2025_Drone
Legend
All Layers and Tables
Dynamic Legend
Dynamic All Layers
Layers:
Description: Drone imagery from 2025 taken in the City of Harrisonburg. Spatial Reference is WKID 3857. A cache was built using the ArcGIS Online/Bing Maps/Google Maps tiling scheme containing 10 levels ranging from 1:36,112 to 1:70 (L14 to L23).
Service Item Id: 1a008b4de13b4df39d8e42a95b9b18aa
Copyright Text: City of Harrisonburg
Spatial Reference:
102100
(3857)
LatestVCSWkid(0)
Single Fused Map Cache: true
Tile Info:
- Height: 256.0
- Width: 256.0
- DPI: 96.0
-
Levels of Detail: 24
-
Level ID: 1
[ Start Tile, End Tile ]
- Resolution: 78271.5169639999
- Scale: 2.95828763795777E8
-
Level ID: 2
[ Start Tile, End Tile ]
- Resolution: 39135.7584820001
- Scale: 1.47914381897889E8
-
Level ID: 3
[ Start Tile, End Tile ]
- Resolution: 19567.8792409999
- Scale: 7.3957190948944E7
-
Level ID: 4
[ Start Tile, End Tile ]
- Resolution: 9783.93962049996
- Scale: 3.6978595474472E7
-
Level ID: 5
[ Start Tile, End Tile ]
- Resolution: 4891.96981024998
- Scale: 1.8489297737236E7
- Format: Mixed
- Compression Quality: 95.0
- Origin: X: -2.0037508342787E7
Y: 2.0037508342787E7
- Spatial Reference: 102100
(3857)
LatestVCSWkid(0)
Storage Info:
- Storage Format: esriMapCacheStorageModeCompactV2
- Packet Size: 128
Initial Extent:
XMin: -8781921.89414011
YMin: 4641436.261747324
XMax: -8778087.610972691
YMax: 4646438.021367492
Spatial Reference: 102100
(3857)
LatestVCSWkid(0)
Full Extent:
XMin: -8784136.185025543
YMin: 4637064.223911362
XMax: -8778219.916316004
YMax: 4646215.099149037
Spatial Reference: 102100
(3857)
LatestVCSWkid(0)
Units: esriMeters
Supported Image Format Types: PNG32,PNG24,PNG,JPG,DIB,TIFF,EMF,PS,PDF,GIF,SVG,SVGZ,BMP
Document Info:
Title: Imagery_2025_Drone
Author:
Comments: Drone imagery from 2025 taken in the City of Harrisonburg. Spatial Reference is WKID 3857. A cache was built using the ArcGIS Online/Bing Maps/Google Maps tiling scheme containing 10 levels ranging from 1:36,112 to 1:70 (L14 to L23).
Subject: Drone imagery from 2025 taken in the City of Harrisonburg.
Category:
Keywords: imagery,2025,drone
AntialiasingMode: Fast
TextAntialiasingMode: Force
Supports Dynamic Layers: true
MaxRecordCount: 2000
MaxImageHeight: 4096
MaxImageWidth: 4096
Supported Query Formats: JSON, geoJSON, PBF
Supports Query Data Elements: true
Min Scale: 36111.909643
Max Scale: 70.5310735
Min LOD: 14
Max LOD: 23
Supports Datum Transformation: true
Child Resources:
Info
Dynamic Layer
Supported Operations:
Export Map
Identify
QueryLegends
QueryDomains
Find
Return Updates